BEGIN:VCALENDAR
VERSION:2.0
PRODID:-//CCC - ECPv6.11.2//NONSGML v1.0//EN
CALSCALE:GREGORIAN
METHOD:PUBLISH
X-ORIGINAL-URL:https://success.ccc.edu
X-WR-CALDESC:Events for CCC
REFRESH-INTERVAL;VALUE=DURATION:PT1H
X-Robots-Tag:noindex
X-PUBLISHED-TTL:PT1H
BEGIN:VTIMEZONE
TZID:America/Chicago
BEGIN:DAYLIGHT
TZOFFSETFROM:-0600
TZOFFSETTO:-0500
TZNAME:CDT
DTSTART:20250309T080000
END:DAYLIGHT
BEGIN:STANDARD
TZOFFSETFROM:-0500
TZOFFSETTO:-0600
TZNAME:CST
DTSTART:20251102T070000
END:STANDARD
END:VTIMEZONE
BEGIN:VEVENT
DTSTART;TZID=America/Chicago:20250122T150000
DTEND;TZID=America/Chicago:20250122T160000
DTSTAMP:20260419T204139
CREATED:20250103T205554Z
LAST-MODIFIED:20250103T205554Z
UID:10003036-1737558000-1737561600@success.ccc.edu
SUMMARY:Harold Washington: Careers 101 (Virtual)
DESCRIPTION:
URL:https://success.ccc.edu/event/harold-washington-careers-101-virtual/
CATEGORIES:Harold Washington
ATTACH;FMTTYPE=image/png:https://success.ccc.edu/app/uploads/CalendarImage_CareerCenter_4_HW.png
END:VEVENT
BEGIN:VEVENT
DTSTART;TZID=America/Chicago:20250123T130000
DTEND;TZID=America/Chicago:20250123T150000
DTSTAMP:20260419T204139
CREATED:20241218T174141Z
LAST-MODIFIED:20241218T174141Z
UID:10002974-1737637200-1737644400@success.ccc.edu
SUMMARY:Harold Washington: Satisfactory Academic Progress (SAP) Appeal Workshop
DESCRIPTION:
URL:https://success.ccc.edu/event/harold-washington-satisfactory-academic-progress-sap-appeal-workshop-7/
CATEGORIES:Harold Washington
ATTACH;FMTTYPE=image/jpeg:https://success.ccc.edu/app/uploads/HW_Calendar-Image_01.jpg
END:VEVENT
BEGIN:VEVENT
DTSTART;TZID=America/Chicago:20250123T150000
DTEND;TZID=America/Chicago:20250123T160000
DTSTAMP:20260419T204139
CREATED:20241218T174322Z
LAST-MODIFIED:20241218T174323Z
UID:10002977-1737644400-1737648000@success.ccc.edu
SUMMARY:The Academy\, Workplace Conduct
DESCRIPTION:
URL:https://success.ccc.edu/event/the-academy-workplace-conduct/
CATEGORIES:District-wide,Harold Washington,Harry S Truman,Kennedy-King,Malcolm X,Olive-Harvey,Richard J. Daley,Wilbur Wright
ATTACH;FMTTYPE=image/jpeg:https://success.ccc.edu/app/uploads/DO_Calendar-Image_01-e1709153611957-wuAWoR.tmp_.jpg
END:VEVENT
BEGIN:VEVENT
DTSTART;TZID=America/Chicago:20250123T150000
DTEND;TZID=America/Chicago:20250123T170000
DTSTAMP:20260419T204139
CREATED:20241217T224723Z
LAST-MODIFIED:20241217T224723Z
UID:10002949-1737644400-1737651600@success.ccc.edu
SUMMARY:Harold Washington: New Student Orientation
DESCRIPTION:
URL:https://success.ccc.edu/event/harold-washington-new-student-orientation-66/
CATEGORIES:Harold Washington
ATTACH;FMTTYPE=image/jpeg:https://success.ccc.edu/app/uploads/HW_Calendar-Image_02.jpg
END:VEVENT
BEGIN:VEVENT
DTSTART;TZID=America/Chicago:20250123T153000
DTEND;TZID=America/Chicago:20250123T170000
DTSTAMP:20260419T204139
CREATED:20250110T203629Z
LAST-MODIFIED:20250110T203629Z
UID:10003180-1737646200-1737651600@success.ccc.edu
SUMMARY:Spring 2025 City Colleges of Chicago Transfer Leadership Class (TLC)
DESCRIPTION:
URL:https://success.ccc.edu/event/spring-2025-city-colleges-of-chicago-transfer-leadership-class-tlc-6/
CATEGORIES:District-wide,Harold Washington,Harry S Truman,Kennedy-King,Malcolm X,Olive-Harvey,Richard J. Daley,Wilbur Wright
ATTACH;FMTTYPE=image/png:https://success.ccc.edu/app/uploads/Transfer_Per-College_DO.png
END:VEVENT
BEGIN:VEVENT
DTSTART;TZID=America/Chicago:20250123T163000
DTEND;TZID=America/Chicago:20250123T173000
DTSTAMP:20260419T204139
CREATED:20241218T174330Z
LAST-MODIFIED:20241218T174330Z
UID:10002978-1737649800-1737653400@success.ccc.edu
SUMMARY:Harold Washington: Satisfactory Academic Progress (SAP) Appeal Consultations
DESCRIPTION:
URL:https://success.ccc.edu/event/harold-washington-satisfactory-academic-progress-sap-appeal-consultations-7/
CATEGORIES:Harold Washington
ATTACH;FMTTYPE=image/jpeg:https://success.ccc.edu/app/uploads/HW_Calendar-Image_01.jpg
END:VEVENT
BEGIN:VEVENT
DTSTART;TZID=America/Chicago:20250127T183000
DTEND;TZID=America/Chicago:20250127T190000
DTSTAMP:20260419T204139
CREATED:20241218T171308Z
LAST-MODIFIED:20241218T171308Z
UID:10002958-1738002600-1738004400@success.ccc.edu
SUMMARY:The Academy\, Grow Your Career
DESCRIPTION:
URL:https://success.ccc.edu/event/the-academy-grow-your-career/
CATEGORIES:District-wide,Harold Washington,Harry S Truman,Kennedy-King,Malcolm X,Olive-Harvey,Richard J. Daley,Wilbur Wright
ATTACH;FMTTYPE=image/jpeg:https://success.ccc.edu/app/uploads/DO_Calendar-Image_01-e1709153611957-wuAWoR.tmp_.jpg
END:VEVENT
BEGIN:VEVENT
DTSTART;TZID=America/Chicago:20250128T000000
DTEND;TZID=America/Chicago:20250128T000000
DTSTAMP:20260419T204139
CREATED:20250128T220457Z
LAST-MODIFIED:20250128T220457Z
UID:10003475-1738022400-1738022400@success.ccc.edu
SUMMARY:Harold Washington: A Peer-to-Peer Conversation Around Gender and Sexuality
DESCRIPTION:
URL:https://success.ccc.edu/event/harold-washington-a-peer-to-peer-conversation-around-gender-and-sexuality/
CATEGORIES:Harold Washington
ATTACH;FMTTYPE=image/jpeg:https://success.ccc.edu/app/uploads/HW_Calendar-Image_01.jpg
END:VEVENT
BEGIN:VEVENT
DTSTART;TZID=America/Chicago:20250128T120000
DTEND;TZID=America/Chicago:20250128T130000
DTSTAMP:20260419T204139
CREATED:20241218T171414Z
LAST-MODIFIED:20241218T171415Z
UID:10002960-1738065600-1738069200@success.ccc.edu
SUMMARY:Virtual ID Protection Workshop
DESCRIPTION:
URL:https://success.ccc.edu/event/virtual-id-protection-workshop-2/
CATEGORIES:District-wide,Harold Washington,Harry S Truman,Kennedy-King,Malcolm X,Olive-Harvey,Richard J. Daley,Wilbur Wright
ATTACH;FMTTYPE=image/jpeg:https://success.ccc.edu/app/uploads/DO_Calendar-Image_01-e1709153611957-wuAWoR.tmp_.jpg
END:VEVENT
BEGIN:VEVENT
DTSTART;TZID=America/Chicago:20250128T140000
DTEND;TZID=America/Chicago:20250128T150000
DTSTAMP:20260419T204139
CREATED:20250113T171612Z
LAST-MODIFIED:20250113T171613Z
UID:10002991-1738072800-1738076400@success.ccc.edu
SUMMARY:Truman: Jumpstart Your Transfer Journey with Guaranteed Admissions
DESCRIPTION:
URL:https://success.ccc.edu/event/truman-jump-start-your-transfer-journey-with-guaranteed-admissions/
CATEGORIES:District-wide,Harold Washington,Harry S Truman,Kennedy-King,Malcolm X,Olive-Harvey,Richard J. Daley,Wilbur Wright
ATTACH;FMTTYPE=image/png:https://success.ccc.edu/app/uploads/Transfer_Per-College_HT.png
END:VEVENT
BEGIN:VEVENT
DTSTART;TZID=America/Chicago:20250128T150000
DTEND;TZID=America/Chicago:20250128T160000
DTSTAMP:20260419T204139
CREATED:20250103T174934Z
LAST-MODIFIED:20250103T174934Z
UID:10003007-1738076400-1738080000@success.ccc.edu
SUMMARY:Harold Washington: Student Activities\, Involvement\, and Career Impact
DESCRIPTION:
URL:https://success.ccc.edu/event/harold-washington-student-activities-involvement-and-career-impact-2/
CATEGORIES:Harold Washington
ATTACH;FMTTYPE=image/jpeg:https://success.ccc.edu/app/uploads/HW_Calendar-Image_01.jpg
END:VEVENT
BEGIN:VEVENT
DTSTART;TZID=America/Chicago:20250128T150000
DTEND;TZID=America/Chicago:20250128T160000
DTSTAMP:20260419T204139
CREATED:20250103T202842Z
LAST-MODIFIED:20250103T202842Z
UID:10003018-1738076400-1738080000@success.ccc.edu
SUMMARY:Harold Washington: Student Activities\, Involvement\, and Career Impact (Virtual)
DESCRIPTION:
URL:https://success.ccc.edu/event/harold-washington-student-activities-involvement-and-career-impact-virtual-2/
CATEGORIES:Harold Washington
ATTACH;FMTTYPE=image/jpeg:https://success.ccc.edu/app/uploads/HW_Calendar-Image_02.jpg
END:VEVENT
BEGIN:VEVENT
DTSTART;TZID=America/Chicago:20250129T100000
DTEND;TZID=America/Chicago:20250129T110000
DTSTAMP:20260419T204139
CREATED:20241209T202141Z
LAST-MODIFIED:20241209T202141Z
UID:10002802-1738144800-1738148400@success.ccc.edu
SUMMARY:Partners in Education Info Session
DESCRIPTION:
URL:https://success.ccc.edu/event/partners-in-education-info-session-64/
CATEGORIES:District-wide,Harold Washington,Harry S Truman,Kennedy-King,Malcolm X,Olive-Harvey,Richard J. Daley,Wilbur Wright
ATTACH;FMTTYPE=image/jpeg:https://success.ccc.edu/app/uploads/CHA-Calendar-Image.jpg
END:VEVENT
BEGIN:VEVENT
DTSTART;TZID=America/Chicago:20250129T120000
DTEND;TZID=America/Chicago:20250129T130000
DTSTAMP:20260419T204139
CREATED:20241209T202035Z
LAST-MODIFIED:20241209T202035Z
UID:10002801-1738152000-1738155600@success.ccc.edu
SUMMARY:Partners in Education Info Session
DESCRIPTION:
URL:https://success.ccc.edu/event/partners-in-education-info-session-63/
CATEGORIES:District-wide,Harold Washington,Harry S Truman,Kennedy-King,Malcolm X,Olive-Harvey,Richard J. Daley,Wilbur Wright
ATTACH;FMTTYPE=image/jpeg:https://success.ccc.edu/app/uploads/CHA-Calendar-Image.jpg
END:VEVENT
BEGIN:VEVENT
DTSTART;TZID=America/Chicago:20250129T153000
DTEND;TZID=America/Chicago:20250129T170000
DTSTAMP:20260419T204139
CREATED:20250116T230346Z
LAST-MODIFIED:20250116T230347Z
UID:10003290-1738164600-1738170000@success.ccc.edu
SUMMARY:Rockstar Panel Event to Publicize Upcoming Transfer Scholarships and Vassar College Exploring Transfer (ET) Program
DESCRIPTION:
URL:https://success.ccc.edu/event/rockstar-panel-event-to-publicize-upcoming-transfer-scholarships-and-vassar-college-exploring-transfer-et-program/
CATEGORIES:District-wide,Harold Washington,Harry S Truman
ATTACH;FMTTYPE=image/jpeg:https://success.ccc.edu/app/uploads/Transfer_03.jpg
END:VEVENT
BEGIN:VEVENT
DTSTART;TZID=America/Chicago:20250130T130000
DTEND;TZID=America/Chicago:20250130T150000
DTSTAMP:20260419T204139
CREATED:20241217T223249Z
LAST-MODIFIED:20241217T223249Z
UID:10002938-1738242000-1738249200@success.ccc.edu
SUMMARY:Harold Washington: Satisfactory Academic Progress (SAP) Appeal Workshop
DESCRIPTION:
URL:https://success.ccc.edu/event/harold-washington-satisfactory-academic-progress-sap-appeal-workshop-5/
CATEGORIES:Harold Washington
ATTACH;FMTTYPE=image/jpeg:https://success.ccc.edu/app/uploads/Financial-Aid_Calendar.jpg
END:VEVENT
BEGIN:VEVENT
DTSTART;TZID=America/Chicago:20250130T150000
DTEND;TZID=America/Chicago:20250130T160000
DTSTAMP:20260419T204139
CREATED:20241217T223309Z
LAST-MODIFIED:20241217T223309Z
UID:10002939-1738249200-1738252800@success.ccc.edu
SUMMARY:Budgeting Workshop
DESCRIPTION:
URL:https://success.ccc.edu/event/budgeting-workshop/
CATEGORIES:District-wide,Harold Washington,Harry S Truman,Kennedy-King,Malcolm X,Olive-Harvey,Richard J. Daley,Wilbur Wright
ATTACH;FMTTYPE=image/jpeg:https://success.ccc.edu/app/uploads/DO_Calendar-Image_01-e1709153611957-wuAWoR.tmp_.jpg
END:VEVENT
BEGIN:VEVENT
DTSTART;TZID=America/Chicago:20250130T150000
DTEND;TZID=America/Chicago:20250130T170000
DTSTAMP:20260419T204139
CREATED:20241217T224340Z
LAST-MODIFIED:20241217T224340Z
UID:10002945-1738249200-1738256400@success.ccc.edu
SUMMARY:Harold Washington: New Student Orientation
DESCRIPTION:
URL:https://success.ccc.edu/event/harold-washington-new-student-orientation-63/
CATEGORIES:Harold Washington
ATTACH;FMTTYPE=image/jpeg:https://success.ccc.edu/app/uploads/HW_Calendar-Image_02.jpg
END:VEVENT
BEGIN:VEVENT
DTSTART;TZID=America/Chicago:20250130T153000
DTEND;TZID=America/Chicago:20250130T170000
DTSTAMP:20260419T204139
CREATED:20250122T223401Z
LAST-MODIFIED:20250122T223401Z
UID:10003419-1738251000-1738256400@success.ccc.edu
SUMMARY:Spring 2025 City Colleges of Chicago Transfer Leadership Class (TLC)
DESCRIPTION:
URL:https://success.ccc.edu/event/spring-2025-city-colleges-of-chicago-transfer-leadership-class-tlc-7/
CATEGORIES:District-wide,Harold Washington
ATTACH;FMTTYPE=image/png:https://success.ccc.edu/app/uploads/Transfer_Per-College_DO.png
END:VEVENT
BEGIN:VEVENT
DTSTART;TZID=America/Chicago:20250130T153000
DTEND;TZID=America/Chicago:20250130T170000
DTSTAMP:20260419T204139
CREATED:20250122T223413Z
LAST-MODIFIED:20250122T223413Z
UID:10003420-1738251000-1738256400@success.ccc.edu
SUMMARY:Spring 2025 City Colleges of Chicago Transfer Leadership Class (TLC)
DESCRIPTION:
URL:https://success.ccc.edu/event/spring-2025-city-colleges-of-chicago-transfer-leadership-class-tlc-8/
CATEGORIES:District-wide,Harold Washington
ATTACH;FMTTYPE=image/png:https://success.ccc.edu/app/uploads/Transfer_Per-College_DO.png
END:VEVENT
BEGIN:VEVENT
DTSTART;TZID=America/Chicago:20250130T163000
DTEND;TZID=America/Chicago:20250130T173000
DTSTAMP:20260419T204139
CREATED:20241217T223356Z
LAST-MODIFIED:20241217T223356Z
UID:10002941-1738254600-1738258200@success.ccc.edu
SUMMARY:Harold Washington: Satisfactory Academic Progress (SAP) Appeal Consultations
DESCRIPTION:
URL:https://success.ccc.edu/event/harold-washington-satisfactory-academic-progress-sap-appeal-consultations-5/
CATEGORIES:Harold Washington
ATTACH;FMTTYPE=image/jpeg:https://success.ccc.edu/app/uploads/Financial-Aid_Calendar.jpg
END:VEVENT
BEGIN:VEVENT
DTSTART;TZID=America/Chicago:20250130T183000
DTEND;TZID=America/Chicago:20250130T193000
DTSTAMP:20260419T204139
CREATED:20241209T201754Z
LAST-MODIFIED:20241209T201754Z
UID:10002799-1738261800-1738265400@success.ccc.edu
SUMMARY:Partners in Education Info Session
DESCRIPTION:
URL:https://success.ccc.edu/event/partners-in-education-info-session-62/
CATEGORIES:District-wide,Harold Washington,Harry S Truman,Kennedy-King,Malcolm X,Olive-Harvey,Richard J. Daley,Wilbur Wright
ATTACH;FMTTYPE=image/jpeg:https://success.ccc.edu/app/uploads/CHA-Calendar-Image.jpg
END:VEVENT
BEGIN:VEVENT
DTSTART;TZID=America/Chicago:20250131T130000
DTEND;TZID=America/Chicago:20250131T140000
DTSTAMP:20260419T204139
CREATED:20250113T173005Z
LAST-MODIFIED:20250113T173005Z
UID:10003154-1738328400-1738332000@success.ccc.edu
SUMMARY:Earn and Learn Information Session
DESCRIPTION:
URL:https://success.ccc.edu/event/earn-and-learn-information-session-11/
CATEGORIES:District-wide,Harold Washington,Harry S Truman,Kennedy-King,Malcolm X,Olive-Harvey,Richard J. Daley,Wilbur Wright
ATTACH;FMTTYPE=image/png:https://success.ccc.edu/app/uploads/CalendarImage_CareerCenter_4_DO.png
END:VEVENT
BEGIN:VEVENT
DTSTART;TZID=America/Chicago:20250131T130000
DTEND;TZID=America/Chicago:20250131T143000
DTSTAMP:20260419T204139
CREATED:20250122T223354Z
LAST-MODIFIED:20250122T223354Z
UID:10003418-1738328400-1738333800@success.ccc.edu
SUMMARY:Harold Washington: Lunch & Learn - A Muslim-American Experience
DESCRIPTION:
URL:https://success.ccc.edu/event/harold-washington-lunch-learn-a-muslim-american-experience/
CATEGORIES:Harold Washington
ATTACH;FMTTYPE=image/jpeg:https://success.ccc.edu/app/uploads/HW_Stdnt_Act_01.jpg
END:VEVENT
BEGIN:VEVENT
DTSTART;TZID=America/Chicago:20250131T133000
DTEND;TZID=America/Chicago:20250131T150000
DTSTAMP:20260419T204139
CREATED:20250129T151625Z
LAST-MODIFIED:20250129T151625Z
UID:10003457-1738330200-1738335600@success.ccc.edu
SUMMARY:Know Your Rights Training (Virtual)
DESCRIPTION:
URL:https://success.ccc.edu/event/know-your-rights-training-virtual/
CATEGORIES:District-wide,Harold Washington,Harry S Truman,Kennedy-King,Malcolm X,Olive-Harvey,Richard J. Daley,Wilbur Wright
ATTACH;FMTTYPE=image/jpeg:https://success.ccc.edu/app/uploads/DO_Calendar-Image_01-e1709153611957-wuAWoR.tmp_.jpg
END:VEVENT
BEGIN:VEVENT
DTSTART;TZID=America/Chicago:20250131T160000
DTEND;TZID=America/Chicago:20250131T180000
DTSTAMP:20260419T204139
CREATED:20241218T171457Z
LAST-MODIFIED:20241218T171457Z
UID:10002963-1738339200-1738346400@success.ccc.edu
SUMMARY:Harold Washington: Financial Aid/Rise Application Completion Workshop
DESCRIPTION:
URL:https://success.ccc.edu/event/harold-washington-financial-aid-rise-application-completion-workshop/
CATEGORIES:Harold Washington
ATTACH;FMTTYPE=image/jpeg:https://success.ccc.edu/app/uploads/HW_Calendar-Image_01.jpg
END:VEVENT
BEGIN:VEVENT
DTSTART;TZID=America/Chicago:20250203T100000
DTEND;TZID=America/Chicago:20250203T140000
DTSTAMP:20260419T204139
CREATED:20250106T203037Z
LAST-MODIFIED:20250106T203037Z
UID:10003040-1738576800-1738591200@success.ccc.edu
SUMMARY:Harold Washington: Blood Drive w/ Versiti
DESCRIPTION:
URL:https://success.ccc.edu/event/harold-washington-blood-drive-w-versiti/
CATEGORIES:Harold Washington
ATTACH;FMTTYPE=image/jpeg:https://success.ccc.edu/app/uploads/HW_Stdnt_Act_01.jpg
END:VEVENT
BEGIN:VEVENT
DTSTART;TZID=America/Chicago:20250203T140000
DTEND;TZID=America/Chicago:20250203T150000
DTSTAMP:20260419T204139
CREATED:20241216T220310Z
LAST-MODIFIED:20241216T220310Z
UID:10002902-1738591200-1738594800@success.ccc.edu
SUMMARY:Truman: Transfer 101 Workshop - Computer Science/ Engineering Majors
DESCRIPTION:
URL:https://success.ccc.edu/event/truman-transfer-101-workshop-computer-science-engineering-majors-2/
CATEGORIES:District-wide,Harold Washington,Harry S Truman,Kennedy-King,Malcolm X,Olive-Harvey,Richard J. Daley,Wilbur Wright
ATTACH;FMTTYPE=image/png:https://success.ccc.edu/app/uploads/Transfer_Per-College_HT.png
END:VEVENT
BEGIN:VEVENT
DTSTART;TZID=America/Chicago:20250203T140000
DTEND;TZID=America/Chicago:20250226T160000
DTSTAMP:20260419T204139
CREATED:20250130T204027Z
LAST-MODIFIED:20250130T204027Z
UID:10003523-1738591200-1740585600@success.ccc.edu
SUMMARY:Harold Washington: Free Conversational Spanish for Beginners
DESCRIPTION:
URL:https://success.ccc.edu/event/harold-washington-free-conversational-spanish-for-beginners/
CATEGORIES:Harold Washington
ATTACH;FMTTYPE=image/jpeg:https://success.ccc.edu/app/uploads/HW_Calendar-Image_01.jpg
END:VEVENT
BEGIN:VEVENT
DTSTART;TZID=America/Chicago:20250205T130000
DTEND;TZID=America/Chicago:20250205T160000
DTSTAMP:20260419T204139
CREATED:20250123T222052Z
LAST-MODIFIED:20250123T222052Z
UID:10003433-1738760400-1738771200@success.ccc.edu
SUMMARY:Harold Washington: Employer Tabling - PwC
DESCRIPTION:
URL:https://success.ccc.edu/event/harold-washington-employer-tabling-pwc/
CATEGORIES:Harold Washington
ATTACH;FMTTYPE=image/png:https://success.ccc.edu/app/uploads/CalendarImage_CareerCenter_4_HW.png
END:VEVENT
END:VCALENDAR