BEGIN:VCALENDAR
VERSION:2.0
PRODID:-//CCC - ECPv6.11.2//NONSGML v1.0//EN
CALSCALE:GREGORIAN
METHOD:PUBLISH
X-WR-CALNAME:CCC
X-ORIGINAL-URL:https://success.ccc.edu
X-WR-CALDESC:Events for CCC
REFRESH-INTERVAL;VALUE=DURATION:PT1H
X-Robots-Tag:noindex
X-PUBLISHED-TTL:PT1H
BEGIN:VTIMEZONE
TZID:America/Chicago
BEGIN:DAYLIGHT
TZOFFSETFROM:-0600
TZOFFSETTO:-0500
TZNAME:CDT
DTSTART:20240310T080000
END:DAYLIGHT
BEGIN:STANDARD
TZOFFSETFROM:-0500
TZOFFSETTO:-0600
TZNAME:CST
DTSTART:20241103T070000
END:STANDARD
END:VTIMEZONE
BEGIN:VEVENT
DTSTART;TZID=America/Chicago:20241101T110000
DTEND;TZID=America/Chicago:20241103T160000
DTSTAMP:20260419T231858
CREATED:20240918T145743Z
LAST-MODIFIED:20240918T145743Z
UID:10002328-1730458800-1730649600@success.ccc.edu
SUMMARY:Malcolm X: The National Student Leadership Diversity Convention
DESCRIPTION:
URL:https://success.ccc.edu/event/malcolm-x-the-national-student-leadership-diversity-convention/
CATEGORIES:District-wide,Harold Washington,Harry S Truman,Kennedy-King,Malcolm X,Olive-Harvey,Richard J. Daley,Wilbur Wright
ATTACH;FMTTYPE=image/jpeg:https://success.ccc.edu/app/uploads/MX_Stdnt_Act_02.jpg
END:VEVENT
BEGIN:VEVENT
DTSTART;TZID=America/Chicago:20241101T120000
DTEND;TZID=America/Chicago:20241101T130000
DTSTAMP:20260419T231858
CREATED:20240811T162018Z
LAST-MODIFIED:20240811T162018Z
UID:10001880-1730462400-1730466000@success.ccc.edu
SUMMARY:Industry Spotlight: Digital Multimedia
DESCRIPTION:
URL:https://success.ccc.edu/event/industry-spotlight-digital-multimedia/
CATEGORIES:Harold Washington
ATTACH;FMTTYPE=image/png:https://success.ccc.edu/app/uploads/CalendarImage_CareerCenter_4_HW.png
END:VEVENT
BEGIN:VEVENT
DTSTART;TZID=America/Chicago:20241101T143000
DTEND;TZID=America/Chicago:20241101T160000
DTSTAMP:20260419T231858
CREATED:20240801T150554Z
LAST-MODIFIED:20240801T150554Z
UID:10001841-1730471400-1730476800@success.ccc.edu
SUMMARY:HWC Transfer 101 Workshop
DESCRIPTION:
URL:https://success.ccc.edu/event/hwc-transfer-101-workshop/
CATEGORIES:District Office,District-wide,Harold Washington,Harry S Truman,Kennedy-King,Malcolm X,Olive-Harvey,Richard J. Daley,Wilbur Wright
ATTACH;FMTTYPE=image/png:https://success.ccc.edu/app/uploads/Transfer_Per-College_HW.png
END:VEVENT
BEGIN:VEVENT
DTSTART;TZID=America/Chicago:20241104T113000
DTEND;TZID=America/Chicago:20241104T130000
DTSTAMP:20260419T231858
CREATED:20241022T205741Z
LAST-MODIFIED:20241022T205741Z
UID:10002595-1730719800-1730725200@success.ccc.edu
SUMMARY:Harold Washington: Native American Trivia
DESCRIPTION:
URL:https://success.ccc.edu/event/harold-washington-native-american-trivia/
CATEGORIES:Harold Washington
ATTACH;FMTTYPE=image/jpeg:https://success.ccc.edu/app/uploads/HW_Stdnt_Act_01.jpg
END:VEVENT
BEGIN:VEVENT
DTSTART;TZID=America/Chicago:20241105T120000
DTEND;TZID=America/Chicago:20241105T143000
DTSTAMP:20260419T231858
CREATED:20241014T213233Z
LAST-MODIFIED:20241014T213233Z
UID:10002534-1730808000-1730817000@success.ccc.edu
SUMMARY:Harold Washington: Day of the Dead Crafting & Cinema Fun
DESCRIPTION:
URL:https://success.ccc.edu/event/harold-washington-day-of-the-dead-crafting-cinema-fun/
CATEGORIES:Harold Washington
ATTACH;FMTTYPE=image/jpeg:https://success.ccc.edu/app/uploads/HW_Stdnt_Act_01.jpg
END:VEVENT
BEGIN:VEVENT
DTSTART;TZID=America/Chicago:20241106T100000
DTEND;TZID=America/Chicago:20241106T110000
DTSTAMP:20260419T231858
CREATED:20240829T194440Z
LAST-MODIFIED:20240829T194440Z
UID:10002157-1730887200-1730890800@success.ccc.edu
SUMMARY:Partners in Education Info Session
DESCRIPTION:
URL:https://success.ccc.edu/event/partners-in-education-info-session-47/
CATEGORIES:Harold Washington,Harry S Truman,Kennedy-King,Malcolm X,Olive-Harvey,Richard J. Daley,Wilbur Wright
ATTACH;FMTTYPE=image/jpeg:https://success.ccc.edu/app/uploads/CHA-Calendar-Image.jpg
END:VEVENT
BEGIN:VEVENT
DTSTART;TZID=America/Chicago:20241106T100000
DTEND;TZID=America/Chicago:20241106T120000
DTSTAMP:20260419T231858
CREATED:20241030T211037Z
LAST-MODIFIED:20241030T211037Z
UID:10002630-1730887200-1730894400@success.ccc.edu
SUMMARY:Harold Washington: Financial Aid Completion Workshop
DESCRIPTION:
URL:https://success.ccc.edu/event/harold-washington-financial-aid-completion-workshop-8/
CATEGORIES:Harold Washington
ATTACH;FMTTYPE=image/jpeg:https://success.ccc.edu/app/uploads/Financial-Aid_Calendar.jpg
END:VEVENT
BEGIN:VEVENT
DTSTART;TZID=America/Chicago:20241106T100000
DTEND;TZID=America/Chicago:20241106T120000
DTSTAMP:20260419T231858
CREATED:20241030T211052Z
LAST-MODIFIED:20241030T211052Z
UID:10002631-1730887200-1730894400@success.ccc.edu
SUMMARY:Harold Washington: Financial Aid Completion Workshop
DESCRIPTION:
URL:https://success.ccc.edu/event/harold-washington-financial-aid-completion-workshop-9/
CATEGORIES:Harold Washington
ATTACH;FMTTYPE=image/jpeg:https://success.ccc.edu/app/uploads/Financial-Aid_Calendar.jpg
END:VEVENT
BEGIN:VEVENT
DTSTART;TZID=America/Chicago:20241106T120000
DTEND;TZID=America/Chicago:20241106T130000
DTSTAMP:20260419T231858
CREATED:20240829T194337Z
LAST-MODIFIED:20240829T194337Z
UID:10002155-1730894400-1730898000@success.ccc.edu
SUMMARY:Partners in Education Info Session
DESCRIPTION:
URL:https://success.ccc.edu/event/partners-in-education-info-session-45/
CATEGORIES:Harold Washington,Harry S Truman,Kennedy-King,Malcolm X,Olive-Harvey,Richard J. Daley,Wilbur Wright
ATTACH;FMTTYPE=image/jpeg:https://success.ccc.edu/app/uploads/CHA-Calendar-Image.jpg
END:VEVENT
BEGIN:VEVENT
DTSTART;TZID=America/Chicago:20241106T130000
DTEND;TZID=America/Chicago:20241106T160000
DTSTAMP:20260419T231858
CREATED:20241015T151804Z
LAST-MODIFIED:20241015T151804Z
UID:10002548-1730898000-1730908800@success.ccc.edu
SUMMARY:Harold Washington: Lake Forest College Table Visit
DESCRIPTION:
URL:https://success.ccc.edu/event/harold-washington-lake-forest-college-table-visit-3/
CATEGORIES:Harold Washington
ATTACH;FMTTYPE=image/png:https://success.ccc.edu/app/uploads/Transfer_Table_Per-College_HW.png
END:VEVENT
BEGIN:VEVENT
DTSTART;TZID=America/Chicago:20241106T140000
DTEND;TZID=America/Chicago:20241106T150000
DTSTAMP:20260419T231858
CREATED:20241010T194035Z
LAST-MODIFIED:20241010T194035Z
UID:10002498-1730901600-1730905200@success.ccc.edu
SUMMARY:Harold Washington: Financial Wellness Day
DESCRIPTION:
URL:https://success.ccc.edu/event/harold-washington-financial-wellness-day/
CATEGORIES:Harold Washington
ATTACH;FMTTYPE=image/jpeg:https://success.ccc.edu/app/uploads/HW_Calendar-Image_03.jpg
END:VEVENT
BEGIN:VEVENT
DTSTART;TZID=America/Chicago:20241106T160000
DTEND;TZID=America/Chicago:20241106T190000
DTSTAMP:20260419T231858
CREATED:20241015T151746Z
LAST-MODIFIED:20241015T151746Z
UID:10002546-1730908800-1730919600@success.ccc.edu
SUMMARY:Harold Washington: Columbia College Chicago Table Visit
DESCRIPTION:
URL:https://success.ccc.edu/event/harold-washington-columbia-college-chicago-table-visit-3/
CATEGORIES:Harold Washington
ATTACH;FMTTYPE=image/png:https://success.ccc.edu/app/uploads/Transfer_Table_Per-College_HW.png
END:VEVENT
BEGIN:VEVENT
DTSTART;TZID=America/Chicago:20241106T180000
DTEND;TZID=America/Chicago:20241106T200000
DTSTAMP:20260419T231858
CREATED:20240920T214818Z
LAST-MODIFIED:20240924T193629Z
UID:10002358-1730916000-1730923200@success.ccc.edu
SUMMARY:Harold Washington: Project Management Fundamentals CAPM Nov Class
DESCRIPTION:
URL:https://success.ccc.edu/event/harold-washington-project-management-fundamentals-capm-nov-class/
CATEGORIES:Harold Washington
ATTACH;FMTTYPE=image/jpeg:https://success.ccc.edu/app/uploads/CE_Business.jpg
END:VEVENT
BEGIN:VEVENT
DTSTART;TZID=America/Chicago:20241107T100000
DTEND;TZID=America/Chicago:20241107T130000
DTSTAMP:20260419T231858
CREATED:20241015T150756Z
LAST-MODIFIED:20241015T150756Z
UID:10002545-1730973600-1730984400@success.ccc.edu
SUMMARY:Harold Washington: Elmhurst University Table Visit
DESCRIPTION:
URL:https://success.ccc.edu/event/harold-washington-elmhurst-university-table-visit-4/
CATEGORIES:Harold Washington
ATTACH;FMTTYPE=image/png:https://success.ccc.edu/app/uploads/Transfer_Table_Per-College_HW.png
END:VEVENT
BEGIN:VEVENT
DTSTART;TZID=America/Chicago:20241107T183000
DTEND;TZID=America/Chicago:20241107T193000
DTSTAMP:20260419T231858
CREATED:20240829T194434Z
LAST-MODIFIED:20240829T194434Z
UID:10002156-1731004200-1731007800@success.ccc.edu
SUMMARY:Partners in Education Info Session
DESCRIPTION:
URL:https://success.ccc.edu/event/partners-in-education-info-session-46/
CATEGORIES:Harold Washington,Harry S Truman,Kennedy-King,Malcolm X,Olive-Harvey,Richard J. Daley,Wilbur Wright
ATTACH;FMTTYPE=image/jpeg:https://success.ccc.edu/app/uploads/CHA-Calendar-Image.jpg
END:VEVENT
BEGIN:VEVENT
DTSTART;TZID=America/Chicago:20241112T100000
DTEND;TZID=America/Chicago:20241112T120000
DTSTAMP:20260419T231858
CREATED:20241030T211158Z
LAST-MODIFIED:20241030T211158Z
UID:10002632-1731405600-1731412800@success.ccc.edu
SUMMARY:Harold Washington: Financial Aid Completion Workshop
DESCRIPTION:
URL:https://success.ccc.edu/event/harold-washington-financial-aid-completion-workshop-10/
CATEGORIES:Harold Washington
ATTACH;FMTTYPE=image/jpeg:https://success.ccc.edu/app/uploads/Financial-Aid_Calendar.jpg
END:VEVENT
BEGIN:VEVENT
DTSTART;TZID=America/Chicago:20241112T100000
DTEND;TZID=America/Chicago:20241112T130000
DTSTAMP:20260419T231858
CREATED:20241015T150457Z
LAST-MODIFIED:20241015T150457Z
UID:10002543-1731405600-1731416400@success.ccc.edu
SUMMARY:Harold Washington: University of Illinois Chicago (UIC) Table Visit
DESCRIPTION:
URL:https://success.ccc.edu/event/harold-washington-university-of-illinois-chicago-uic-table-visit/
CATEGORIES:Harold Washington
ATTACH;FMTTYPE=image/png:https://success.ccc.edu/app/uploads/Transfer_Table_Per-College_HW.png
END:VEVENT
BEGIN:VEVENT
DTSTART;TZID=America/Chicago:20241112T100000
DTEND;TZID=America/Chicago:20241112T140000
DTSTAMP:20260419T231858
CREATED:20241014T212410Z
LAST-MODIFIED:20241014T212410Z
UID:10002530-1731405600-1731420000@success.ccc.edu
SUMMARY:Olive-Harvey: Wilberforce University Virtual Table Visit
DESCRIPTION:
URL:https://success.ccc.edu/event/olive-harvey-wilberforce-university-virtual-table-visit/
CATEGORIES:District-wide,Harold Washington,Harry S Truman,Kennedy-King,Malcolm X,Olive-Harvey,Richard J. Daley
ATTACH;FMTTYPE=image/png:https://success.ccc.edu/app/uploads/Transfer_Per-College_OH.png
END:VEVENT
BEGIN:VEVENT
DTSTART;TZID=America/Chicago:20241112T130000
DTEND;TZID=America/Chicago:20241112T140000
DTSTAMP:20260419T231858
CREATED:20240925T212907Z
LAST-MODIFIED:20240925T212907Z
UID:10002372-1731416400-1731420000@success.ccc.edu
SUMMARY:Harold Washington: Veteran's Day Presentation Collab w/ SGA & Military-Affiliated Student Services
DESCRIPTION:
URL:https://success.ccc.edu/event/harold-washington-veterans-day-presentation-collab-w-sga-military-affiliated-student-services/
CATEGORIES:Harold Washington
ATTACH;FMTTYPE=image/jpeg:https://success.ccc.edu/app/uploads/Veterans-Services_Calendar.jpg
END:VEVENT
BEGIN:VEVENT
DTSTART;TZID=America/Chicago:20241112T130000
DTEND;TZID=America/Chicago:20241112T160000
DTSTAMP:20260419T231858
CREATED:20241014T212923Z
LAST-MODIFIED:20241014T212923Z
UID:10002532-1731416400-1731427200@success.ccc.edu
SUMMARY:Harold Washington: DePaul University Table Visit
DESCRIPTION:
URL:https://success.ccc.edu/event/harold-washington-depaul-university-table-visit-4/
CATEGORIES:Harold Washington
ATTACH;FMTTYPE=image/png:https://success.ccc.edu/app/uploads/Transfer_Table_Per-College_HW.png
END:VEVENT
BEGIN:VEVENT
DTSTART;TZID=America/Chicago:20241112T143000
DTEND;TZID=America/Chicago:20241112T163000
DTSTAMP:20260419T231858
CREATED:20240930T192412Z
LAST-MODIFIED:20240930T192412Z
UID:10002384-1731421800-1731429000@success.ccc.edu
SUMMARY:Harold Washington: Karaoke Lounge
DESCRIPTION:
URL:https://success.ccc.edu/event/harold-washington-karaoke-lounge-2/
CATEGORIES:Harold Washington
ATTACH;FMTTYPE=image/jpeg:https://success.ccc.edu/app/uploads/HW_Stdnt_Act_01.jpg
END:VEVENT
BEGIN:VEVENT
DTSTART;TZID=America/Chicago:20241113T100000
DTEND;TZID=America/Chicago:20241113T110000
DTSTAMP:20260419T231858
CREATED:20240829T194312Z
LAST-MODIFIED:20240829T194312Z
UID:10002153-1731492000-1731495600@success.ccc.edu
SUMMARY:Partners in Education Info Session
DESCRIPTION:
URL:https://success.ccc.edu/event/partners-in-education-info-session-43/
CATEGORIES:Harold Washington,Harry S Truman,Kennedy-King,Malcolm X,Olive-Harvey,Richard J. Daley,Wilbur Wright
ATTACH;FMTTYPE=image/jpeg:https://success.ccc.edu/app/uploads/CHA-Calendar-Image.jpg
END:VEVENT
BEGIN:VEVENT
DTSTART;TZID=America/Chicago:20241113T100000
DTEND;TZID=America/Chicago:20241113T130000
DTSTAMP:20260419T231858
CREATED:20241014T212814Z
LAST-MODIFIED:20241014T212814Z
UID:10002531-1731492000-1731502800@success.ccc.edu
SUMMARY:Harold Washington College: Saint Xavier University Table Visit
DESCRIPTION:
URL:https://success.ccc.edu/event/harold-washington-college-saint-xavier-university-table-visit/
CATEGORIES:Harold Washington
ATTACH;FMTTYPE=image/png:https://success.ccc.edu/app/uploads/Transfer_Table_Per-College_HW.png
END:VEVENT
BEGIN:VEVENT
DTSTART;TZID=America/Chicago:20241113T120000
DTEND;TZID=America/Chicago:20241113T130000
DTSTAMP:20260419T231858
CREATED:20240829T194325Z
LAST-MODIFIED:20240829T194325Z
UID:10002154-1731499200-1731502800@success.ccc.edu
SUMMARY:Partners in Education Info Session
DESCRIPTION:
URL:https://success.ccc.edu/event/partners-in-education-info-session-44/
CATEGORIES:Harold Washington,Harry S Truman,Kennedy-King,Malcolm X,Olive-Harvey,Richard J. Daley,Wilbur Wright
ATTACH;FMTTYPE=image/jpeg:https://success.ccc.edu/app/uploads/CHA-Calendar-Image.jpg
END:VEVENT
BEGIN:VEVENT
DTSTART;TZID=America/Chicago:20241113T123000
DTEND;TZID=America/Chicago:20241113T140000
DTSTAMP:20260419T231858
CREATED:20240801T150911Z
LAST-MODIFIED:20240801T150911Z
UID:10001844-1731501000-1731506400@success.ccc.edu
SUMMARY:Harold Washington: Transfer Writing Workshop/Ready to Transfer (RTA)
DESCRIPTION:
URL:https://success.ccc.edu/event/harold-washington-transfer-writing-workshop-ready-to-transfer-rta/
CATEGORIES:Harold Washington
ATTACH;FMTTYPE=image/png:https://success.ccc.edu/app/uploads/Transfer_Per-College_HW.png
END:VEVENT
BEGIN:VEVENT
DTSTART;TZID=America/Chicago:20241113T140000
DTEND;TZID=America/Chicago:20241113T150000
DTSTAMP:20260419T231858
CREATED:20241104T170100Z
LAST-MODIFIED:20241104T170101Z
UID:10002196-1731506400-1731510000@success.ccc.edu
SUMMARY:Daley: Transfer 101 Workshop
DESCRIPTION:
URL:https://success.ccc.edu/event/daley-transfer-101-workshop/
CATEGORIES:District-wide,Harold Washington,Harry S Truman,Kennedy-King,Malcolm X,Olive-Harvey,Richard J. Daley
ATTACH;FMTTYPE=image/png:https://success.ccc.edu/app/uploads/Transfer_Per-College_RD.png
END:VEVENT
BEGIN:VEVENT
DTSTART;TZID=America/Chicago:20241113T150000
DTEND;TZID=America/Chicago:20241113T160000
DTSTAMP:20260419T231858
CREATED:20241030T212318Z
LAST-MODIFIED:20241030T212318Z
UID:10002638-1731510000-1731513600@success.ccc.edu
SUMMARY:University of Illinois System (UIUC\, UIC\, & UIS) Guaranteed Admissions Information Session
DESCRIPTION:
URL:https://success.ccc.edu/event/university-of-illinois-system-uiuc-uic-uis-guaranteed-admissions-information-session/
CATEGORIES:District-wide,Harold Washington,Harry S Truman,Kennedy-King,Malcolm X,Olive-Harvey,Richard J. Daley,Wilbur Wright
ATTACH;FMTTYPE=image/png:https://success.ccc.edu/app/uploads/Transfer_Per-College_DO.png
END:VEVENT
BEGIN:VEVENT
DTSTART;TZID=America/Chicago:20241114T100000
DTEND;TZID=America/Chicago:20241114T130000
DTSTAMP:20260419T231858
CREATED:20241014T212206Z
LAST-MODIFIED:20241014T212206Z
UID:10002529-1731578400-1731589200@success.ccc.edu
SUMMARY:Harold Washington: UIC College of Business Table Visit
DESCRIPTION:
URL:https://success.ccc.edu/event/harold-washington-uic-college-of-business-table-visit/
CATEGORIES:Harold Washington
ATTACH;FMTTYPE=image/png:https://success.ccc.edu/app/uploads/Transfer_Table_Per-College_HW.png
END:VEVENT
BEGIN:VEVENT
DTSTART;TZID=America/Chicago:20241114T110000
DTEND;TZID=America/Chicago:20241114T130000
DTSTAMP:20260419T231858
CREATED:20241107T164909Z
LAST-MODIFIED:20241107T164909Z
UID:10002670-1731582000-1731589200@success.ccc.edu
SUMMARY:Harold Washington: STEM and Tutoring Meet and Greet
DESCRIPTION:
URL:https://success.ccc.edu/event/harold-washington-stem-and-tutoring-meet-and-greet/
CATEGORIES:Harold Washington
ATTACH;FMTTYPE=image/jpeg:https://success.ccc.edu/app/uploads/HW_Stdnt_Act_01.jpg
END:VEVENT
BEGIN:VEVENT
DTSTART;TZID=America/Chicago:20241114T150000
DTEND;TZID=America/Chicago:20241114T170000
DTSTAMP:20260419T231858
CREATED:20241022T202523Z
LAST-MODIFIED:20241022T202523Z
UID:10002566-1731596400-1731603600@success.ccc.edu
SUMMARY:Harold Washington: New Student Orientation
DESCRIPTION:
URL:https://success.ccc.edu/event/harold-washington-new-student-orientation-53/
CATEGORIES:Harold Washington
ATTACH;FMTTYPE=image/jpeg:https://success.ccc.edu/app/uploads/HW_Calendar-Image_02.jpg
END:VEVENT
END:VCALENDAR