BEGIN:VCALENDAR
VERSION:2.0
PRODID:-//CCC - ECPv6.11.2//NONSGML v1.0//EN
CALSCALE:GREGORIAN
METHOD:PUBLISH
X-WR-CALNAME:CCC
X-ORIGINAL-URL:https://success.ccc.edu
X-WR-CALDESC:Events for CCC
REFRESH-INTERVAL;VALUE=DURATION:PT1H
X-Robots-Tag:noindex
X-PUBLISHED-TTL:PT1H
BEGIN:VTIMEZONE
TZID:America/Chicago
BEGIN:DAYLIGHT
TZOFFSETFROM:-0600
TZOFFSETTO:-0500
TZNAME:CDT
DTSTART:20230312T080000
END:DAYLIGHT
BEGIN:STANDARD
TZOFFSETFROM:-0500
TZOFFSETTO:-0600
TZNAME:CST
DTSTART:20231105T070000
END:STANDARD
BEGIN:DAYLIGHT
TZOFFSETFROM:-0600
TZOFFSETTO:-0500
TZNAME:CDT
DTSTART:20240310T080000
END:DAYLIGHT
BEGIN:STANDARD
TZOFFSETFROM:-0500
TZOFFSETTO:-0600
TZNAME:CST
DTSTART:20241103T070000
END:STANDARD
END:VTIMEZONE
BEGIN:VEVENT
DTSTART;TZID=America/Chicago:20231128T140000
DTEND;TZID=America/Chicago:20231128T160000
DTSTAMP:20260420T233918
CREATED:20231128T222927Z
LAST-MODIFIED:20231128T222927Z
UID:10000707-1701180000-1701187200@success.ccc.edu
SUMMARY:Harold Washington: Rohingya Refugee Talk
DESCRIPTION:
URL:https://success.ccc.edu/event/harold-washington-rohinga-refugee-talk/
CATEGORIES:Harold Washington
ATTACH;FMTTYPE=image/jpeg:https://success.ccc.edu/app/uploads/HW_Calendar-Image_02.jpg
END:VEVENT
BEGIN:VEVENT
DTSTART;TZID=America/Chicago:20231129T120000
DTEND;TZID=America/Chicago:20231129T140000
DTSTAMP:20260420T233918
CREATED:20231116T204640Z
LAST-MODIFIED:20231116T204640Z
UID:10000706-1701259200-1701266400@success.ccc.edu
SUMMARY:Harold Washington: SAP Workshop
DESCRIPTION:
URL:https://success.ccc.edu/event/harold-washington-sap-workshop-4/
CATEGORIES:Harold Washington
ATTACH;FMTTYPE=image/jpeg:https://success.ccc.edu/app/uploads/Financial-Aid_Calendar-FAFSA_23.jpg
END:VEVENT
BEGIN:VEVENT
DTSTART;TZID=America/Chicago:20231205T100000
DTEND;TZID=America/Chicago:20231205T110000
DTSTAMP:20260420T233918
CREATED:20231128T222837Z
LAST-MODIFIED:20231128T222837Z
UID:10000716-1701770400-1701774000@success.ccc.edu
SUMMARY:Harold Washington: Industry Spotlight - Marketing & Sales
DESCRIPTION:
URL:https://success.ccc.edu/event/harold-washington-industry-spotlight-marketing-sales/
CATEGORIES:Harold Washington
ATTACH;FMTTYPE=image/png:https://success.ccc.edu/app/uploads/CalendarImage_CareerCenter_4_HW.png
END:VEVENT
BEGIN:VEVENT
DTSTART;TZID=America/Chicago:20231205T103000
DTEND;TZID=America/Chicago:20231205T130000
DTSTAMP:20260420T233918
CREATED:20231130T203236Z
LAST-MODIFIED:20231130T203236Z
UID:10000728-1701772200-1701781200@success.ccc.edu
SUMMARY:Harold Washington: In-Person New Student Orientation
DESCRIPTION:
URL:https://success.ccc.edu/event/harold-washington-in-person-new-student-orientation-20/
CATEGORIES:Harold Washington
ATTACH;FMTTYPE=image/jpeg:https://success.ccc.edu/app/uploads/HW_Calendar-Image_03.jpg
END:VEVENT
BEGIN:VEVENT
DTSTART;TZID=America/Chicago:20231206T120000
DTEND;TZID=America/Chicago:20231206T140000
DTSTAMP:20260420T233918
CREATED:20231116T164833Z
LAST-MODIFIED:20231116T164833Z
UID:10000703-1701864000-1701871200@success.ccc.edu
SUMMARY:Harold Washington: SAP Workshop
DESCRIPTION:
URL:https://success.ccc.edu/event/harold-washington-sap-workshop-3/
CATEGORIES:Harold Washington
ATTACH;FMTTYPE=image/jpeg:https://success.ccc.edu/app/uploads/Financial-Aid_Calendar-FAFSA_23.jpg
END:VEVENT
BEGIN:VEVENT
DTSTART;TZID=America/Chicago:20231206T133000
DTEND;TZID=America/Chicago:20231206T160000
DTSTAMP:20260420T233918
CREATED:20231130T203138Z
LAST-MODIFIED:20231130T203138Z
UID:10000727-1701869400-1701878400@success.ccc.edu
SUMMARY:Harold Washington: Virtual New Student Orientation
DESCRIPTION:
URL:https://success.ccc.edu/event/harold-washington-virtual-new-student-orientation-11/
CATEGORIES:Harold Washington
ATTACH;FMTTYPE=image/jpeg:https://success.ccc.edu/app/uploads/HW_Calendar-Image_03.jpg
END:VEVENT
BEGIN:VEVENT
DTSTART;TZID=America/Chicago:20231207T120000
DTEND;TZID=America/Chicago:20231207T130000
DTSTAMP:20260420T233918
CREATED:20231128T223717Z
LAST-MODIFIED:20231128T223717Z
UID:10000719-1701950400-1701954000@success.ccc.edu
SUMMARY:Harold Washington: USA Jobs and Federal Jobs Workshop
DESCRIPTION:
URL:https://success.ccc.edu/event/harold-washington-usa-jobs-and-federal-jobs-workshop/
CATEGORIES:Harold Washington
ATTACH;FMTTYPE=image/png:https://success.ccc.edu/app/uploads/CalendarImage_CareerCenter_4_HW.png
END:VEVENT
BEGIN:VEVENT
DTSTART;TZID=America/Chicago:20231212T103000
DTEND;TZID=America/Chicago:20231212T130000
DTSTAMP:20260420T233918
CREATED:20231130T203036Z
LAST-MODIFIED:20231130T203036Z
UID:10000726-1702377000-1702386000@success.ccc.edu
SUMMARY:Harold Washington: In-Person New Student Orientation
DESCRIPTION:
URL:https://success.ccc.edu/event/harold-washington-in-person-new-student-orientation-19/
CATEGORIES:Harold Washington
ATTACH;FMTTYPE=image/jpeg:https://success.ccc.edu/app/uploads/HW_Calendar-Image_03.jpg
END:VEVENT
BEGIN:VEVENT
DTSTART;TZID=America/Chicago:20231212T110000
DTEND;TZID=America/Chicago:20231212T120000
DTSTAMP:20260420T233918
CREATED:20231207T213625Z
LAST-MODIFIED:20231207T213625Z
UID:10000725-1702378800-1702382400@success.ccc.edu
SUMMARY:Harold Washington: Thinking About Human Rights
DESCRIPTION:
URL:https://success.ccc.edu/event/harold-washington-thinking-about-human-rights/
CATEGORIES:Harold Washington
ATTACH;FMTTYPE=image/jpeg:https://success.ccc.edu/app/uploads/HW_Stdnt_Act_03.jpg
END:VEVENT
BEGIN:VEVENT
DTSTART;TZID=America/Chicago:20231212T180000
DTEND;TZID=America/Chicago:20231212T190000
DTSTAMP:20260420T233918
CREATED:20231128T223450Z
LAST-MODIFIED:20231128T223450Z
UID:10000718-1702404000-1702407600@success.ccc.edu
SUMMARY:Harold Washington: Securities Industry Essentials Bootcamp+ Certification Information Session
DESCRIPTION:
URL:https://success.ccc.edu/event/harold-washington-securities-industry-essentials-bootcamp-certification-information-session-2/
CATEGORIES:Harold Washington
ATTACH;FMTTYPE=image/jpeg:https://success.ccc.edu/app/uploads/HW_Calendar-Image_02.jpg
END:VEVENT
BEGIN:VEVENT
DTSTART;TZID=America/Chicago:20231213T120000
DTEND;TZID=America/Chicago:20231213T140000
DTSTAMP:20260420T233918
CREATED:20231116T164525Z
LAST-MODIFIED:20231116T164525Z
UID:10000701-1702468800-1702476000@success.ccc.edu
SUMMARY:Harold Washington: SAP Workshop
DESCRIPTION:
URL:https://success.ccc.edu/event/harold-washington-sap-workshop-2/
CATEGORIES:Harold Washington
ATTACH;FMTTYPE=image/jpeg:https://success.ccc.edu/app/uploads/Financial-Aid_Calendar-FAFSA_23.jpg
END:VEVENT
BEGIN:VEVENT
DTSTART;TZID=America/Chicago:20231213T133000
DTEND;TZID=America/Chicago:20231213T160000
DTSTAMP:20260420T233918
CREATED:20231130T202825Z
LAST-MODIFIED:20231130T202825Z
UID:10000724-1702474200-1702483200@success.ccc.edu
SUMMARY:Harold Washington: Virtual New Student Orientation
DESCRIPTION:
URL:https://success.ccc.edu/event/harold-washington-virtual-new-student-orientation-10/
CATEGORIES:Harold Washington
ATTACH;FMTTYPE=image/jpeg:https://success.ccc.edu/app/uploads/HW_Calendar-Image_03.jpg
END:VEVENT
BEGIN:VEVENT
DTSTART;TZID=America/Chicago:20231213T140000
DTEND;TZID=America/Chicago:20231213T150000
DTSTAMP:20260420T233918
CREATED:20231213T165555Z
LAST-MODIFIED:20231213T165555Z
UID:10000743-1702476000-1702479600@success.ccc.edu
SUMMARY:Harold Washington: Directors' Showcase
DESCRIPTION:
URL:https://success.ccc.edu/event/harold-washington-directors-showcase/
CATEGORIES:Harold Washington
ATTACH;FMTTYPE=image/jpeg:https://success.ccc.edu/app/uploads/HW_Calendar-Image_01.jpg
END:VEVENT
BEGIN:VEVENT
DTSTART;TZID=America/Chicago:20231213T160000
DTEND;TZID=America/Chicago:20231213T170000
DTSTAMP:20260420T233918
CREATED:20231213T165042Z
LAST-MODIFIED:20231213T165042Z
UID:10000742-1702483200-1702486800@success.ccc.edu
SUMMARY:Harold Washington: Short Suite Showcase
DESCRIPTION:
URL:https://success.ccc.edu/event/harold-washington-short-suite-showcase/
CATEGORIES:Harold Washington
ATTACH;FMTTYPE=image/jpeg:https://success.ccc.edu/app/uploads/HW_Calendar-Image_01.jpg
END:VEVENT
BEGIN:VEVENT
DTSTART;TZID=America/Chicago:20231218T180000
DTEND;TZID=America/Chicago:20231218T200000
DTSTAMP:20260420T233918
CREATED:20231213T214757Z
LAST-MODIFIED:20231213T214757Z
UID:10000745-1702922400-1702929600@success.ccc.edu
SUMMARY:Harold Washington: Early Childhood Scholarship Informational Session
DESCRIPTION:
URL:https://success.ccc.edu/event/harold-washington-early-childhood-scholarship-informational-session/
CATEGORIES:Harold Washington
ATTACH;FMTTYPE=image/jpeg:https://success.ccc.edu/app/uploads/Academic_Calendar-23.jpg
END:VEVENT
BEGIN:VEVENT
DTSTART;TZID=America/Chicago:20231219T103000
DTEND;TZID=America/Chicago:20231219T130000
DTSTAMP:20260420T233918
CREATED:20231130T202746Z
LAST-MODIFIED:20231130T202746Z
UID:10000723-1702981800-1702990800@success.ccc.edu
SUMMARY:Harold Washington: In Person New Student Orientation
DESCRIPTION:
URL:https://success.ccc.edu/event/harold-washington-in-person-new-student-orientation-18/
CATEGORIES:Harold Washington
ATTACH;FMTTYPE=image/jpeg:https://success.ccc.edu/app/uploads/HW_Calendar-Image_03.jpg
END:VEVENT
BEGIN:VEVENT
DTSTART;TZID=America/Chicago:20231220T120000
DTEND;TZID=America/Chicago:20231220T140000
DTSTAMP:20260420T233918
CREATED:20231116T164409Z
LAST-MODIFIED:20231116T164409Z
UID:10000700-1703073600-1703080800@success.ccc.edu
SUMMARY:Harold Washington: SAP Workshop
DESCRIPTION:
URL:https://success.ccc.edu/event/harold-washington-sap-workshop/
CATEGORIES:Harold Washington
ATTACH;FMTTYPE=image/jpeg:https://success.ccc.edu/app/uploads/Financial-Aid_Calendar-FAFSA_23.jpg
END:VEVENT
BEGIN:VEVENT
DTSTART;TZID=America/Chicago:20231220T133000
DTEND;TZID=America/Chicago:20231220T160000
DTSTAMP:20260420T233918
CREATED:20231130T202559Z
LAST-MODIFIED:20231130T202559Z
UID:10000722-1703079000-1703088000@success.ccc.edu
SUMMARY:Harold Washington: Virtual New Student Orientation
DESCRIPTION:
URL:https://success.ccc.edu/event/harold-washington-virtual-new-student-orientation-9/
CATEGORIES:Harold Washington
ATTACH;FMTTYPE=image/jpeg:https://success.ccc.edu/app/uploads/HW_Calendar-Image_03.jpg
END:VEVENT
BEGIN:VEVENT
DTSTART;TZID=America/Chicago:20231221T170000
DTEND;TZID=America/Chicago:20231221T180000
DTSTAMP:20260420T233918
CREATED:20231221T181922Z
LAST-MODIFIED:20231221T181922Z
UID:10000721-1703178000-1703181600@success.ccc.edu
SUMMARY:Harold Washington: Virtual New Student Orientation
DESCRIPTION:
URL:https://success.ccc.edu/event/harold-washington-virtual-new-student-orientation-8/
CATEGORIES:Harold Washington
ATTACH;FMTTYPE=image/jpeg:https://success.ccc.edu/app/uploads/HW_Calendar-Image_03.jpg
END:VEVENT
BEGIN:VEVENT
DTSTART;TZID=America/Chicago:20240106T090000
DTEND;TZID=America/Chicago:20240106T123000
DTSTAMP:20260420T233918
CREATED:20240105T161541Z
LAST-MODIFIED:20240105T161541Z
UID:10000805-1704531600-1704544200@success.ccc.edu
SUMMARY:Harold Washington: New Student Orientation
DESCRIPTION:
URL:https://success.ccc.edu/event/harold-washington-new-student-orientation-6/
CATEGORIES:Harold Washington
ATTACH;FMTTYPE=image/jpeg:https://success.ccc.edu/app/uploads/HW_Calendar-Image_02.jpg
END:VEVENT
BEGIN:VEVENT
DTSTART;TZID=America/Chicago:20240109T103000
DTEND;TZID=America/Chicago:20240109T123000
DTSTAMP:20260420T233918
CREATED:20240109T152710Z
LAST-MODIFIED:20240109T152710Z
UID:10000855-1704796200-1704803400@success.ccc.edu
SUMMARY:Harold Washington: New Student Orientation (In Person)
DESCRIPTION:
URL:https://success.ccc.edu/event/harold-washington-new-student-orientation-in-person/
CATEGORIES:Harold Washington
ATTACH;FMTTYPE=image/jpeg:https://success.ccc.edu/app/uploads/HW_Calendar-Image_02.jpg
END:VEVENT
BEGIN:VEVENT
DTSTART;TZID=America/Chicago:20240109T133000
DTEND;TZID=America/Chicago:20240109T153000
DTSTAMP:20260420T233918
CREATED:20240109T152823Z
LAST-MODIFIED:20240109T152823Z
UID:10000856-1704807000-1704814200@success.ccc.edu
SUMMARY:Harold Washington: New Student Orientation (In Person)
DESCRIPTION:
URL:https://success.ccc.edu/event/harold-washington-new-student-orientation-in-person-2/
CATEGORIES:Harold Washington
ATTACH;FMTTYPE=image/jpeg:https://success.ccc.edu/app/uploads/HW_Calendar-Image_02.jpg
END:VEVENT
BEGIN:VEVENT
DTSTART;TZID=America/Chicago:20240110T103000
DTEND;TZID=America/Chicago:20240110T133000
DTSTAMP:20260420T233918
CREATED:20240104T223129Z
LAST-MODIFIED:20240104T223129Z
UID:10000803-1704882600-1704893400@success.ccc.edu
SUMMARY:Harold Washington: New Student Orientation
DESCRIPTION:
URL:https://success.ccc.edu/event/harold-washington-new-student-orientation-5/
CATEGORIES:Harold Washington
ATTACH;FMTTYPE=image/jpeg:https://success.ccc.edu/app/uploads/HW_Calendar-Image_02.jpg
END:VEVENT
BEGIN:VEVENT
DTSTART;TZID=America/Chicago:20240110T120000
DTEND;TZID=America/Chicago:20240110T140000
DTSTAMP:20260420T233918
CREATED:20240110T154305Z
LAST-MODIFIED:20240110T154305Z
UID:10000899-1704888000-1704895200@success.ccc.edu
SUMMARY:Harold Washington: SAP Workshop
DESCRIPTION:
URL:https://success.ccc.edu/event/harold-washington-sap-workshop-6/
CATEGORIES:Harold Washington
ATTACH;FMTTYPE=image/jpeg:https://success.ccc.edu/app/uploads/Financial-Aid_Calendar.jpg
END:VEVENT
BEGIN:VEVENT
DTSTART;TZID=America/Chicago:20240113T090000
DTEND;TZID=America/Chicago:20240113T093000
DTSTAMP:20260420T233918
CREATED:20240104T223007Z
LAST-MODIFIED:20240104T223007Z
UID:10000802-1705136400-1705138200@success.ccc.edu
SUMMARY:Harold Washington: New Student Orientation
DESCRIPTION:
URL:https://success.ccc.edu/event/harold-washington-new-student-orientation-4/
CATEGORIES:Harold Washington
ATTACH;FMTTYPE=image/jpeg:https://success.ccc.edu/app/uploads/HW_Calendar-Image_02.jpg
END:VEVENT
BEGIN:VEVENT
DTSTART;TZID=America/Chicago:20240116T130000
DTEND;TZID=America/Chicago:20240116T140000
DTSTAMP:20260420T233918
CREATED:20231128T223356Z
LAST-MODIFIED:20231128T223356Z
UID:10000717-1705410000-1705413600@success.ccc.edu
SUMMARY:Harold Washington: Securities Industry Essentials Bootcamp+ Certification Information Session
DESCRIPTION:
URL:https://success.ccc.edu/event/harold-washington-securities-industry-essentials-bootcamp-certification-information-session/
CATEGORIES:Harold Washington
ATTACH;FMTTYPE=image/jpeg:https://success.ccc.edu/app/uploads/HW_Calendar-Image_02.jpg
END:VEVENT
BEGIN:VEVENT
DTSTART;TZID=America/Chicago:20240117T120000
DTEND;TZID=America/Chicago:20240117T140000
DTSTAMP:20260420T233919
CREATED:20240110T154647Z
LAST-MODIFIED:20240110T154647Z
UID:10000901-1705492800-1705500000@success.ccc.edu
SUMMARY:Harold Washington: SAP Workshop
DESCRIPTION:
URL:https://success.ccc.edu/event/harold-washington-sap-workshop-7/
CATEGORIES:Harold Washington
ATTACH;FMTTYPE=image/jpeg:https://success.ccc.edu/app/uploads/Financial-Aid_Calendar.jpg
END:VEVENT
BEGIN:VEVENT
DTSTART;TZID=America/Chicago:20240123T103000
DTEND;TZID=America/Chicago:20240123T123000
DTSTAMP:20260420T233919
CREATED:20240104T222831Z
LAST-MODIFIED:20240104T222831Z
UID:10000801-1706005800-1706013000@success.ccc.edu
SUMMARY:Harold Washington: New Student Orientation
DESCRIPTION:
URL:https://success.ccc.edu/event/harold-washington-new-student-orientation-3/
CATEGORIES:Harold Washington
ATTACH;FMTTYPE=image/jpeg:https://success.ccc.edu/app/uploads/HW_Calendar-Image_02.jpg
END:VEVENT
BEGIN:VEVENT
DTSTART;TZID=America/Chicago:20240123T110000
DTEND;TZID=America/Chicago:20240123T140000
DTSTAMP:20260420T233919
CREATED:20240116T225204Z
LAST-MODIFIED:20240116T225204Z
UID:10001054-1706007600-1706018400@success.ccc.edu
SUMMARY:Harold Washington: Voter Registration
DESCRIPTION:
URL:https://success.ccc.edu/event/harold-washington-voter-registration/
CATEGORIES:Harold Washington
ATTACH;FMTTYPE=image/jpeg:https://success.ccc.edu/app/uploads/HW_Calendar-Image_01.jpg
END:VEVENT
BEGIN:VEVENT
DTSTART;TZID=America/Chicago:20240124T120000
DTEND;TZID=America/Chicago:20240124T140000
DTSTAMP:20260420T233919
CREATED:20240110T154800Z
LAST-MODIFIED:20240110T154800Z
UID:10000902-1706097600-1706104800@success.ccc.edu
SUMMARY:Harold Washington: SAP Workshop
DESCRIPTION:
URL:https://success.ccc.edu/event/harold-washington-sap-workshop-8/
CATEGORIES:Harold Washington
ATTACH;FMTTYPE=image/jpeg:https://success.ccc.edu/app/uploads/Financial-Aid_Calendar.jpg
END:VEVENT
END:VCALENDAR