BEGIN:VCALENDAR
VERSION:2.0
PRODID:-//CCC - ECPv6.11.2//NONSGML v1.0//EN
CALSCALE:GREGORIAN
METHOD:PUBLISH
X-ORIGINAL-URL:https://success.ccc.edu
X-WR-CALDESC:Events for CCC
REFRESH-INTERVAL;VALUE=DURATION:PT1H
X-Robots-Tag:noindex
X-PUBLISHED-TTL:PT1H
BEGIN:VTIMEZONE
TZID:America/Chicago
BEGIN:DAYLIGHT
TZOFFSETFROM:-0600
TZOFFSETTO:-0500
TZNAME:CDT
DTSTART:20240310T080000
END:DAYLIGHT
BEGIN:STANDARD
TZOFFSETFROM:-0500
TZOFFSETTO:-0600
TZNAME:CST
DTSTART:20241103T070000
END:STANDARD
END:VTIMEZONE
BEGIN:VEVENT
DTSTART;TZID=America/Chicago:20241017T150000
DTEND;TZID=America/Chicago:20241017T170000
DTSTAMP:20260419T201617
CREATED:20240809T201308Z
LAST-MODIFIED:20240809T201308Z
UID:10001896-1729177200-1729184400@success.ccc.edu
SUMMARY:Harold Washington: Entrepreneurship Expo
DESCRIPTION:
URL:https://success.ccc.edu/event/harold-washington-entrepreneurship-expo/
CATEGORIES:Harold Washington
ATTACH;FMTTYPE=image/png:https://success.ccc.edu/app/uploads/CalendarImage_CareerCenter_4_HW.png
END:VEVENT
BEGIN:VEVENT
DTSTART;TZID=America/Chicago:20241017T150000
DTEND;TZID=America/Chicago:20241017T170000
DTSTAMP:20260419T201617
CREATED:20241010T193255Z
LAST-MODIFIED:20241010T193255Z
UID:10002495-1729177200-1729184400@success.ccc.edu
SUMMARY:Harold Washington: Pop-Up Event for Star Scholars
DESCRIPTION:
URL:https://success.ccc.edu/event/harold-washington-pop-up-event-for-star-scholars/
CATEGORIES:Harold Washington
ATTACH;FMTTYPE=image/jpeg:https://success.ccc.edu/app/uploads/HW_Calendar-Image_01.jpg
END:VEVENT
BEGIN:VEVENT
DTSTART;TZID=America/Chicago:20241017T173000
DTEND;TZID=America/Chicago:20241017T193000
DTSTAMP:20260419T201617
CREATED:20240712T183721Z
LAST-MODIFIED:20240712T183721Z
UID:10001757-1729186200-1729193400@success.ccc.edu
SUMMARY:Harold Washington: Introduction to Small Business Management
DESCRIPTION:
URL:https://success.ccc.edu/event/harold-washington-introduction-to-small-business-management-3/
CATEGORIES:Harold Washington
ATTACH;FMTTYPE=image/jpeg:https://success.ccc.edu/app/uploads/FutrRdy_CE_Generic-2.jpg
END:VEVENT
BEGIN:VEVENT
DTSTART;TZID=America/Chicago:20241017T173000
DTEND;TZID=America/Chicago:20241017T193000
DTSTAMP:20260419T201617
CREATED:20240918T151714Z
LAST-MODIFIED:20240918T151714Z
UID:10002335-1729186200-1729193400@success.ccc.edu
SUMMARY:Harold Washington: Introduction to Small Business Management
DESCRIPTION:
URL:https://success.ccc.edu/event/harold-washington-introduction-to-small-business-management-5/
CATEGORIES:Harold Washington
ATTACH;FMTTYPE=image/jpeg:https://success.ccc.edu/app/uploads/FutrRdy_CE_Generic-2.jpg
END:VEVENT
BEGIN:VEVENT
DTSTART;TZID=America/Chicago:20241021T100000
DTEND;TZID=America/Chicago:20241021T120000
DTSTAMP:20260419T201617
CREATED:20241015T152434Z
LAST-MODIFIED:20241015T152434Z
UID:10002552-1729504800-1729512000@success.ccc.edu
SUMMARY:Harold Washington: Engineering Information Session
DESCRIPTION:
URL:https://success.ccc.edu/event/harold-washington-engineering-information-session/
CATEGORIES:Harold Washington
ATTACH;FMTTYPE=image/jpeg:https://success.ccc.edu/app/uploads/School-of-Engineering_Info-Sessioon_Calendar-image.jpg
END:VEVENT
BEGIN:VEVENT
DTSTART;TZID=America/Chicago:20241021T100000
DTEND;TZID=America/Chicago:20241021T130000
DTSTAMP:20260419T201617
CREATED:20241010T190844Z
LAST-MODIFIED:20241010T190844Z
UID:10002486-1729504800-1729515600@success.ccc.edu
SUMMARY:Harold Washington: Chicago State University Table Visit
DESCRIPTION:
URL:https://success.ccc.edu/event/harold-washington-chicago-state-university-table-visit/
CATEGORIES:Harold Washington
ATTACH;FMTTYPE=image/png:https://success.ccc.edu/app/uploads/Transfer_Table_Per-College_HW.png
END:VEVENT
BEGIN:VEVENT
DTSTART;TZID=America/Chicago:20241021T130000
DTEND;TZID=America/Chicago:20241021T150000
DTSTAMP:20260419T201617
CREATED:20240920T211059Z
LAST-MODIFIED:20240920T211059Z
UID:10002346-1729515600-1729522800@success.ccc.edu
SUMMARY:Harold Washington: Movie Monday
DESCRIPTION:
URL:https://success.ccc.edu/event/harold-washington-movie-monday-2/
CATEGORIES:Harold Washington
ATTACH;FMTTYPE=image/jpeg:https://success.ccc.edu/app/uploads/HW_Stdnt_Act_01.jpg
END:VEVENT
BEGIN:VEVENT
DTSTART;TZID=America/Chicago:20241021T130000
DTEND;TZID=America/Chicago:20241021T160000
DTSTAMP:20260419T201617
CREATED:20241010T190534Z
LAST-MODIFIED:20241010T190534Z
UID:10002485-1729515600-1729526400@success.ccc.edu
SUMMARY:Harold Washington: Governors State University Dual Degree Program Table Visit
DESCRIPTION:
URL:https://success.ccc.edu/event/harold-washington-governors-state-university-dual-degree-program-table-visit/
CATEGORIES:Harold Washington
ATTACH;FMTTYPE=image/png:https://success.ccc.edu/app/uploads/Transfer_Table_Per-College_HW.png
END:VEVENT
BEGIN:VEVENT
DTSTART;TZID=America/Chicago:20241022T140000
DTEND;TZID=America/Chicago:20241022T150000
DTSTAMP:20260419T201617
CREATED:20241010T185935Z
LAST-MODIFIED:20241010T185935Z
UID:10002482-1729605600-1729609200@success.ccc.edu
SUMMARY:National Transfer Student Week: ISAC Financial Aid Presentation
DESCRIPTION:
URL:https://success.ccc.edu/event/national-transfer-student-week-isac-financial-aid-presentation/
CATEGORIES:District-wide,Harold Washington,Harry S Truman,Kennedy-King,Malcolm X,Olive-Harvey,Richard J. Daley,Wilbur Wright
ATTACH;FMTTYPE=image/jpeg:https://success.ccc.edu/app/uploads/Transfer-Event-Oct22.jpg
END:VEVENT
BEGIN:VEVENT
DTSTART;TZID=America/Chicago:20241022T150000
DTEND;TZID=America/Chicago:20241022T160000
DTSTAMP:20260419T201617
CREATED:20240910T203445Z
LAST-MODIFIED:20240910T203445Z
UID:10001883-1729609200-1729612800@success.ccc.edu
SUMMARY:Harold Washington: USA Jobs (Virtual)
DESCRIPTION:
URL:https://success.ccc.edu/event/harold-washington-usa-jobs-virtual/
CATEGORIES:Harold Washington
ATTACH;FMTTYPE=image/png:https://success.ccc.edu/app/uploads/CalendarImage_CareerCenter_4_HW.png
END:VEVENT
BEGIN:VEVENT
DTSTART;VALUE=DATE:20241023
DTEND;VALUE=DATE:20241024
DTSTAMP:20260419T201617
CREATED:20240918T152109Z
LAST-MODIFIED:20240918T152109Z
UID:10002336-1729641600-1729727999@success.ccc.edu
SUMMARY:Harold Washington:  Google IT Support Professional Certificate
DESCRIPTION:
URL:https://success.ccc.edu/event/harold-washington-google-it-support-professional-certificate/
CATEGORIES:Harold Washington
ATTACH;FMTTYPE=image/jpeg:https://success.ccc.edu/app/uploads/CE_IT-Tech.jpg
END:VEVENT
BEGIN:VEVENT
DTSTART;TZID=America/Chicago:20241023T100000
DTEND;TZID=America/Chicago:20241023T110000
DTSTAMP:20260419T201617
CREATED:20240829T194512Z
LAST-MODIFIED:20240829T194512Z
UID:10002159-1729677600-1729681200@success.ccc.edu
SUMMARY:Partners in Education Info Session
DESCRIPTION:
URL:https://success.ccc.edu/event/partners-in-education-info-session-49/
CATEGORIES:Harold Washington,Harry S Truman,Kennedy-King,Malcolm X,Olive-Harvey,Richard J. Daley,Wilbur Wright
ATTACH;FMTTYPE=image/jpeg:https://success.ccc.edu/app/uploads/CHA-Calendar-Image.jpg
END:VEVENT
BEGIN:VEVENT
DTSTART;TZID=America/Chicago:20241023T100000
DTEND;TZID=America/Chicago:20241023T130000
DTSTAMP:20260419T201617
CREATED:20241014T140536Z
LAST-MODIFIED:20241014T140537Z
UID:10002484-1729677600-1729688400@success.ccc.edu
SUMMARY:CANCELLED: Harold Washington: Roosevelt University Table Visit
DESCRIPTION:
URL:https://success.ccc.edu/event/harold-washington-roosevelt-university-table-visit-4/
CATEGORIES:Harold Washington
ATTACH;FMTTYPE=image/png:https://success.ccc.edu/app/uploads/Transfer_Table_Per-College_HW.png
END:VEVENT
BEGIN:VEVENT
DTSTART;TZID=America/Chicago:20241023T120000
DTEND;TZID=America/Chicago:20241023T130000
DTSTAMP:20260419T201617
CREATED:20240829T194456Z
LAST-MODIFIED:20240829T194456Z
UID:10002158-1729684800-1729688400@success.ccc.edu
SUMMARY:Partners in Education Info Session
DESCRIPTION:
URL:https://success.ccc.edu/event/partners-in-education-info-session-48/
CATEGORIES:Harold Washington,Harry S Truman,Kennedy-King,Malcolm X,Olive-Harvey,Richard J. Daley,Wilbur Wright
ATTACH;FMTTYPE=image/jpeg:https://success.ccc.edu/app/uploads/CHA-Calendar-Image.jpg
END:VEVENT
BEGIN:VEVENT
DTSTART;TZID=America/Chicago:20241023T130000
DTEND;TZID=America/Chicago:20241023T160000
DTSTAMP:20260419T201617
CREATED:20241022T212222Z
LAST-MODIFIED:20241022T212222Z
UID:10002542-1729688400-1729699200@success.ccc.edu
SUMMARY:Harold Washington: Illinois Tech Table Visit
DESCRIPTION:
URL:https://success.ccc.edu/event/harold-washington-illinois-tech-table-visit-2/
CATEGORIES:Harold Washington
ATTACH;FMTTYPE=image/png:https://success.ccc.edu/app/uploads/Transfer_Table_Per-College_HW.png
END:VEVENT
BEGIN:VEVENT
DTSTART;TZID=America/Chicago:20241023T140000
DTEND;TZID=America/Chicago:20241023T150000
DTSTAMP:20260419T201617
CREATED:20241017T211447Z
LAST-MODIFIED:20241017T211447Z
UID:10002575-1729692000-1729695600@success.ccc.edu
SUMMARY:Transfer-mation Reboot: Dollars & Sense - Mastering Money Basics in College
DESCRIPTION:
URL:https://success.ccc.edu/event/transfer-mation-reboot-dollars-sense-mastering-money-basics-in-college/
CATEGORIES:District-wide,Harold Washington,Harry S Truman,Kennedy-King,Malcolm X,Olive-Harvey,Richard J. Daley,Wilbur Wright
ATTACH;FMTTYPE=image/jpeg:https://success.ccc.edu/app/uploads/Transfer-Event-Oct22.jpg
END:VEVENT
BEGIN:VEVENT
DTSTART;TZID=America/Chicago:20241023T170000
DTEND;TZID=America/Chicago:20241023T180000
DTSTAMP:20260419T201617
CREATED:20240811T162113Z
LAST-MODIFIED:20240811T162113Z
UID:10001881-1729702800-1729706400@success.ccc.edu
SUMMARY:Industry Spotlight: Early Childhood Education
DESCRIPTION:
URL:https://success.ccc.edu/event/industry-spotlight-early-childhood-education/
CATEGORIES:Harold Washington
ATTACH;FMTTYPE=image/png:https://success.ccc.edu/app/uploads/CalendarImage_CareerCenter_4_HW.png
END:VEVENT
BEGIN:VEVENT
DTSTART;TZID=America/Chicago:20241024T100000
DTEND;TZID=America/Chicago:20241024T130000
DTSTAMP:20260419T201617
CREATED:20241022T212131Z
LAST-MODIFIED:20241022T212131Z
UID:10002544-1729764000-1729774800@success.ccc.edu
SUMMARY:Harold Washington: Northeastern Illinois University (NEIU) Table Visit
DESCRIPTION:
URL:https://success.ccc.edu/event/harold-washington-northeastern-illinois-university-neiu-table-visit-5/
CATEGORIES:Harold Washington
ATTACH;FMTTYPE=image/png:https://success.ccc.edu/app/uploads/Transfer_Table_Per-College_HW.png
END:VEVENT
BEGIN:VEVENT
DTSTART;TZID=America/Chicago:20241024T103000
DTEND;TZID=America/Chicago:20241024T120000
DTSTAMP:20260419T201617
CREATED:20241016T202933Z
LAST-MODIFIED:20241016T202933Z
UID:10002570-1729765800-1729771200@success.ccc.edu
SUMMARY:Harold Washington: New Student Orientation
DESCRIPTION:
URL:https://success.ccc.edu/event/harold-washington-new-student-orientation-56/
CATEGORIES:Harold Washington
ATTACH;FMTTYPE=image/jpeg:https://success.ccc.edu/app/uploads/HW_Calendar-Image_02.jpg
END:VEVENT
BEGIN:VEVENT
DTSTART;TZID=America/Chicago:20241024T130000
DTEND;TZID=America/Chicago:20241024T140000
DTSTAMP:20260419T201617
CREATED:20241016T201720Z
LAST-MODIFIED:20241016T201721Z
UID:10002561-1729774800-1729778400@success.ccc.edu
SUMMARY:National Able Network Information Session: Accounting Internship
DESCRIPTION:
URL:https://success.ccc.edu/event/national-able-network-information-session-accounting-internship/
CATEGORIES:District-wide,Harold Washington,Harry S Truman,Kennedy-King,Malcolm X,Olive-Harvey,Richard J. Daley,Wilbur Wright
ATTACH;FMTTYPE=image/png:https://success.ccc.edu/app/uploads/CalendarImage_CareerCenter_4_DO.png
END:VEVENT
BEGIN:VEVENT
DTSTART;TZID=America/Chicago:20241024T140000
DTEND;TZID=America/Chicago:20241024T150000
DTSTAMP:20260419T201617
CREATED:20241010T185747Z
LAST-MODIFIED:20241010T185747Z
UID:10002481-1729778400-1729782000@success.ccc.edu
SUMMARY:Truman: National Transfer Student Week - Transfer Scholarship Workshop
DESCRIPTION:
URL:https://success.ccc.edu/event/truman-national-transfer-student-week-transfer-scholarship-workshop/
CATEGORIES:District Office,District-wide,Harold Washington,Harry S Truman,Kennedy-King,Malcolm X,Olive-Harvey,Richard J. Daley,Wilbur Wright
ATTACH;FMTTYPE=image/jpeg:https://success.ccc.edu/app/uploads/Transfer-Event-Oct22.jpg
END:VEVENT
BEGIN:VEVENT
DTSTART;TZID=America/Chicago:20241024T140000
DTEND;TZID=America/Chicago:20241024T150000
DTSTAMP:20260419T201617
CREATED:20241017T210256Z
LAST-MODIFIED:20241017T210256Z
UID:10002572-1729778400-1729782000@success.ccc.edu
SUMMARY:Transfer-mation Reboot: Show me the Money! Scholarships for Transfer Students
DESCRIPTION:
URL:https://success.ccc.edu/event/transfer-mation-reboot-show-me-the-money-scholarships-for-transfer-students/
CATEGORIES:District-wide,Harold Washington,Harry S Truman,Kennedy-King,Malcolm X,Olive-Harvey,Richard J. Daley,Wilbur Wright
ATTACH;FMTTYPE=image/jpeg:https://success.ccc.edu/app/uploads/Transfer-Event-Oct22.jpg
END:VEVENT
BEGIN:VEVENT
DTSTART;TZID=America/Chicago:20241024T140000
DTEND;TZID=America/Chicago:20241024T150000
DTSTAMP:20260419T201617
CREATED:20241017T211418Z
LAST-MODIFIED:20241017T211418Z
UID:10002574-1729778400-1729782000@success.ccc.edu
SUMMARY:Transfer-mation Reboot: Fit or Epic Fail - Finding the Right College Fit for You!
DESCRIPTION:
URL:https://success.ccc.edu/event/transfer-mation-reboot-fit-or-epic-fail-finding-the-right-college-fit-for-you/
CATEGORIES:District-wide,Harold Washington,Harry S Truman,Kennedy-King,Malcolm X,Olive-Harvey,Richard J. Daley,Wilbur Wright
ATTACH;FMTTYPE=image/jpeg:https://success.ccc.edu/app/uploads/Transfer-Event-Oct22.jpg
END:VEVENT
BEGIN:VEVENT
DTSTART;TZID=America/Chicago:20241024T153000
DTEND;TZID=America/Chicago:20241024T170000
DTSTAMP:20260419T201617
CREATED:20241010T202424Z
LAST-MODIFIED:20241010T202424Z
UID:10002513-1729783800-1729789200@success.ccc.edu
SUMMARY:National Transfer Student Week: Transfer 201 Webinar (Live Recording)
DESCRIPTION:
URL:https://success.ccc.edu/event/national-transfer-student-week-transfer-201-webinar-live-recording/
CATEGORIES:District Office,District-wide,Harold Washington,Harry S Truman,Kennedy-King,Malcolm X,Olive-Harvey,Richard J. Daley,Wilbur Wright
ATTACH;FMTTYPE=image/jpeg:https://success.ccc.edu/app/uploads/Transfer-Event-Oct22.jpg
END:VEVENT
BEGIN:VEVENT
DTSTART;TZID=America/Chicago:20241024T153000
DTEND;TZID=America/Chicago:20241024T170000
DTSTAMP:20260419T201617
CREATED:20241017T205331Z
LAST-MODIFIED:20241017T205331Z
UID:10001845-1729783800-1729789200@success.ccc.edu
SUMMARY:Transfer 201 Webinar (Live Recording)
DESCRIPTION:
URL:https://success.ccc.edu/event/transfer-201-webinar-live-recording/
CATEGORIES:District-wide,Harold Washington,Harry S Truman,Kennedy-King,Malcolm X,Olive-Harvey,Richard J. Daley,Wilbur Wright
ATTACH;FMTTYPE=image/png:https://success.ccc.edu/app/uploads/Transfer_Per-College_HW.png
END:VEVENT
BEGIN:VEVENT
DTSTART;TZID=America/Chicago:20241025T090000
DTEND;TZID=America/Chicago:20241025T140000
DTSTAMP:20260419T201617
CREATED:20241017T205710Z
LAST-MODIFIED:20241017T205710Z
UID:10002571-1729846800-1729864800@success.ccc.edu
SUMMARY:City Colleges of Chicago Exclusive Loyola Transfer Day
DESCRIPTION:
URL:https://success.ccc.edu/event/city-colleges-of-chicago-exclusive-loyola-transfer-day/
CATEGORIES:District-wide,Harold Washington,Harry S Truman,Kennedy-King,Malcolm X,Olive-Harvey,Richard J. Daley,Wilbur Wright
ATTACH;FMTTYPE=image/jpeg:https://success.ccc.edu/app/uploads/Transfer-Event-Oct22.jpg
END:VEVENT
BEGIN:VEVENT
DTSTART;TZID=America/Chicago:20241025T100000
DTEND;TZID=America/Chicago:20241025T120000
DTSTAMP:20260419T201617
CREATED:20241010T202512Z
LAST-MODIFIED:20241010T202512Z
UID:10002514-1729850400-1729857600@success.ccc.edu
SUMMARY:Harold Washington: Financial Aid Completion Workshop
DESCRIPTION:
URL:https://success.ccc.edu/event/harold-washington-financial-aid-completion-workshop-7/
CATEGORIES:Harold Washington
ATTACH;FMTTYPE=image/jpeg:https://success.ccc.edu/app/uploads/Financial-Aid_Calendar.jpg
END:VEVENT
BEGIN:VEVENT
DTSTART;TZID=America/Chicago:20241025T120000
DTEND;TZID=America/Chicago:20241025T133000
DTSTAMP:20260419T201617
CREATED:20241010T135636Z
LAST-MODIFIED:20241010T135636Z
UID:10001846-1729857600-1729863000@success.ccc.edu
SUMMARY:Harold Washington: Jack Kent Cooke Transfer Scholarships Intensive
DESCRIPTION:
URL:https://success.ccc.edu/event/harold-washington-jack-kent-cooke-transfer-scholarships-intensive/
CATEGORIES:Harold Washington
ATTACH;FMTTYPE=image/png:https://success.ccc.edu/app/uploads/Transfer_Per-College_HW.png
END:VEVENT
BEGIN:VEVENT
DTSTART;TZID=America/Chicago:20241025T120000
DTEND;TZID=America/Chicago:20241025T133000
DTSTAMP:20260419T201617
CREATED:20241017T210441Z
LAST-MODIFIED:20241017T210441Z
UID:10002573-1729857600-1729863000@success.ccc.edu
SUMMARY:Harold Washington: Transfer-mation Reboot - How to Write a Winning Admission and Scholarship Essay
DESCRIPTION:
URL:https://success.ccc.edu/event/harold-washington-transfer-mation-reboot-how-to-write-a-winning-admission-and-scholarship-essay/
CATEGORIES:Harold Washington
ATTACH;FMTTYPE=image/jpeg:https://success.ccc.edu/app/uploads/Transfer-Event-Oct22.jpg
END:VEVENT
BEGIN:VEVENT
DTSTART;VALUE=DATE:20241028
DTEND;VALUE=DATE:20241029
DTSTAMP:20260419T201617
CREATED:20240918T152451Z
LAST-MODIFIED:20240918T152451Z
UID:10002337-1730073600-1730159999@success.ccc.edu
SUMMARY:Harold Washington: Microsoft Excel Associate MS-200 Exam Preparation
DESCRIPTION:
URL:https://success.ccc.edu/event/harold-washington-microsoft-excel-associate-ms-200-exam-preparation-2/
CATEGORIES:Harold Washington
ATTACH;FMTTYPE=image/jpeg:https://success.ccc.edu/app/uploads/CE_Business.jpg
END:VEVENT
END:VCALENDAR