BEGIN:VCALENDAR
VERSION:2.0
PRODID:-//CCC - ECPv6.11.2//NONSGML v1.0//EN
CALSCALE:GREGORIAN
METHOD:PUBLISH
X-WR-CALNAME:CCC
X-ORIGINAL-URL:https://success.ccc.edu
X-WR-CALDESC:Events for CCC
REFRESH-INTERVAL;VALUE=DURATION:PT1H
X-Robots-Tag:noindex
X-PUBLISHED-TTL:PT1H
BEGIN:VTIMEZONE
TZID:America/Chicago
BEGIN:DAYLIGHT
TZOFFSETFROM:-0600
TZOFFSETTO:-0500
TZNAME:CDT
DTSTART:20240310T080000
END:DAYLIGHT
BEGIN:STANDARD
TZOFFSETFROM:-0500
TZOFFSETTO:-0600
TZNAME:CST
DTSTART:20241103T070000
END:STANDARD
END:VTIMEZONE
BEGIN:VEVENT
DTSTART;TZID=America/Chicago:20241009T140000
DTEND;TZID=America/Chicago:20241009T160000
DTSTAMP:20260419T183659
CREATED:20240923T214555Z
LAST-MODIFIED:20240923T214555Z
UID:10002331-1728482400-1728489600@success.ccc.edu
SUMMARY:Harold Washington: Midterm Escape Week - Crafts & Games Getaway
DESCRIPTION:
URL:https://success.ccc.edu/event/harold-washington-midterm-escape-week-arcade-day/
CATEGORIES:Harold Washington
ATTACH;FMTTYPE=image/jpeg:https://success.ccc.edu/app/uploads/HW_Stdnt_Act_01.jpg
END:VEVENT
BEGIN:VEVENT
DTSTART;TZID=America/Chicago:20241010T100000
DTEND;TZID=America/Chicago:20241010T130000
DTSTAMP:20260419T183659
CREATED:20241010T173713Z
LAST-MODIFIED:20241010T173713Z
UID:10002464-1728554400-1728565200@success.ccc.edu
SUMMARY:Harold Washington College: Governors State University Table Visit
DESCRIPTION:
URL:https://success.ccc.edu/event/harold-washington-college-governors-state-university-table-visit/
CATEGORIES:Harold Washington
ATTACH;FMTTYPE=image/png:https://success.ccc.edu/app/uploads/Transfer_Table_Per-College_HW.png
END:VEVENT
BEGIN:VEVENT
DTSTART;TZID=America/Chicago:20241010T100000
DTEND;TZID=America/Chicago:20241010T130000
DTSTAMP:20260419T183659
CREATED:20241010T191841Z
LAST-MODIFIED:20241010T191841Z
UID:10002489-1728554400-1728565200@success.ccc.edu
SUMMARY:Harold Washington: Northwestern University School of Professional Studies Table Visit
DESCRIPTION:
URL:https://success.ccc.edu/event/harold-washington-northwestern-university-school-of-professional-studies-table-visit/
CATEGORIES:Harold Washington
ATTACH;FMTTYPE=image/png:https://success.ccc.edu/app/uploads/Transfer_Table_Per-College_HW.png
END:VEVENT
BEGIN:VEVENT
DTSTART;TZID=America/Chicago:20241010T103000
DTEND;TZID=America/Chicago:20241010T123000
DTSTAMP:20260419T183659
CREATED:20241010T174544Z
LAST-MODIFIED:20241010T174544Z
UID:10002467-1728556200-1728563400@success.ccc.edu
SUMMARY:Harold Washington: Financial Aid Completion Workshop
DESCRIPTION:
URL:https://success.ccc.edu/event/harold-washington-financial-aid-completion-workshop-5/
CATEGORIES:Harold Washington
ATTACH;FMTTYPE=image/jpeg:https://success.ccc.edu/app/uploads/Financial-Aid_Calendar.jpg
END:VEVENT
BEGIN:VEVENT
DTSTART;TZID=America/Chicago:20241010T110000
DTEND;TZID=America/Chicago:20241010T130000
DTSTAMP:20260419T183659
CREATED:20240918T150810Z
LAST-MODIFIED:20240918T150810Z
UID:10002334-1728558000-1728565200@success.ccc.edu
SUMMARY:Harold Washington: Midterm Escape Week - Stress Management Brunch
DESCRIPTION:
URL:https://success.ccc.edu/event/harold-washington-midterm-escape-week-stress-management-brunch/
CATEGORIES:Harold Washington
ATTACH;FMTTYPE=image/jpeg:https://success.ccc.edu/app/uploads/HW_Stdnt_Act_01.jpg
END:VEVENT
BEGIN:VEVENT
DTSTART;TZID=America/Chicago:20241010T123000
DTEND;TZID=America/Chicago:20241010T140000
DTSTAMP:20260419T183659
CREATED:20241009T135428Z
LAST-MODIFIED:20241009T135428Z
UID:10001847-1728563400-1728568800@success.ccc.edu
SUMMARY:Harold Washington: Transfer Writing Workshop/Ready to Transfer (RTA)
DESCRIPTION:
URL:https://success.ccc.edu/event/harold-washington-transfer-writing-workshop-ready-to-transfer-rta-2/
CATEGORIES:Harold Washington
ATTACH;FMTTYPE=image/png:https://success.ccc.edu/app/uploads/Transfer_Per-College_HW.png
END:VEVENT
BEGIN:VEVENT
DTSTART;TZID=America/Chicago:20241010T130000
DTEND;TZID=America/Chicago:20241010T160000
DTSTAMP:20260419T183659
CREATED:20241010T180633Z
LAST-MODIFIED:20241010T180633Z
UID:10002475-1728565200-1728576000@success.ccc.edu
SUMMARY:Harold Washington: Lake Forest College Table Visit
DESCRIPTION:
URL:https://success.ccc.edu/event/harold-washington-lake-forest-college-table-visit/
CATEGORIES:Harold Washington
ATTACH;FMTTYPE=image/png:https://success.ccc.edu/app/uploads/Transfer_Table_Per-College_HW.png
END:VEVENT
BEGIN:VEVENT
DTSTART;TZID=America/Chicago:20241010T130000
DTEND;TZID=America/Chicago:20241010T160000
DTSTAMP:20260419T183659
CREATED:20241010T180638Z
LAST-MODIFIED:20241010T180638Z
UID:10002476-1728565200-1728576000@success.ccc.edu
SUMMARY:Harold Washington: Lake Forest College Table Visit
DESCRIPTION:
URL:https://success.ccc.edu/event/harold-washington-lake-forest-college-table-visit-2/
CATEGORIES:Harold Washington
ATTACH;FMTTYPE=image/png:https://success.ccc.edu/app/uploads/Transfer_Table_Per-College_HW.png
END:VEVENT
BEGIN:VEVENT
DTSTART;TZID=America/Chicago:20241010T150000
DTEND;TZID=America/Chicago:20241010T170000
DTSTAMP:20260419T183659
CREATED:20240911T201333Z
LAST-MODIFIED:20240911T201333Z
UID:10002286-1728572400-1728579600@success.ccc.edu
SUMMARY:Harold Washington: Career and Major Expo
DESCRIPTION:
URL:https://success.ccc.edu/event/harold-washington-career-and-major-expo/
CATEGORIES:Harold Washington
ATTACH;FMTTYPE=image/png:https://success.ccc.edu/app/uploads/CalendarImage_CareerCenter_4_HW.png
END:VEVENT
BEGIN:VEVENT
DTSTART;TZID=America/Chicago:20241010T183000
DTEND;TZID=America/Chicago:20241010T193000
DTSTAMP:20260419T183659
CREATED:20240829T194551Z
LAST-MODIFIED:20240829T194551Z
UID:10002162-1728585000-1728588600@success.ccc.edu
SUMMARY:Partners in Education Info Session
DESCRIPTION:
URL:https://success.ccc.edu/event/partners-in-education-info-session-52/
CATEGORIES:Harold Washington,Harry S Truman,Kennedy-King,Malcolm X,Olive-Harvey,Richard J. Daley,Wilbur Wright
ATTACH;FMTTYPE=image/jpeg:https://success.ccc.edu/app/uploads/CHA-Calendar-Image.jpg
END:VEVENT
BEGIN:VEVENT
DTSTART;TZID=America/Chicago:20241015T100000
DTEND;TZID=America/Chicago:20241015T130000
DTSTAMP:20260419T183659
CREATED:20241010T191647Z
LAST-MODIFIED:20241010T191647Z
UID:10002488-1728986400-1728997200@success.ccc.edu
SUMMARY:Harold Washington: UIC College of Urban Planning and Public Affairs Table Visit
DESCRIPTION:
URL:https://success.ccc.edu/event/harold-washington-uic-college-of-urban-planning-and-public-affairs-table-visit/
CATEGORIES:Harold Washington
ATTACH;FMTTYPE=image/png:https://success.ccc.edu/app/uploads/Transfer_Table_Per-College_HW.png
END:VEVENT
BEGIN:VEVENT
DTSTART;TZID=America/Chicago:20241015T120000
DTEND;TZID=America/Chicago:20241015T130000
DTSTAMP:20260419T183659
CREATED:20240911T200723Z
LAST-MODIFIED:20240911T200723Z
UID:10002282-1728993600-1728997200@success.ccc.edu
SUMMARY:Harold Washington: Indigenous People's Day Presentation
DESCRIPTION:
URL:https://success.ccc.edu/event/harold-washington-indigenous-peoples-day-presentation/
CATEGORIES:Harold Washington
ATTACH;FMTTYPE=image/jpeg:https://success.ccc.edu/app/uploads/Project-SAFE-calendar-image.jpg
END:VEVENT
BEGIN:VEVENT
DTSTART;TZID=America/Chicago:20241015T130000
DTEND;TZID=America/Chicago:20241015T140000
DTSTAMP:20260419T183700
CREATED:20240911T174337Z
LAST-MODIFIED:20240911T174337Z
UID:10002269-1728997200-1729000800@success.ccc.edu
SUMMARY:Harold Washington: Latin Dance Lessons
DESCRIPTION:
URL:https://success.ccc.edu/event/harold-washington-latin-dance-lessons/
CATEGORIES:Harold Washington
ATTACH;FMTTYPE=image/jpeg:https://success.ccc.edu/app/uploads/Hispanic-Heritage-Month_Calendar-Image_HW.jpg
END:VEVENT
BEGIN:VEVENT
DTSTART;TZID=America/Chicago:20241016T100000
DTEND;TZID=America/Chicago:20241016T110000
DTSTAMP:20260419T183700
CREATED:20240829T194539Z
LAST-MODIFIED:20240829T194539Z
UID:10002161-1729072800-1729076400@success.ccc.edu
SUMMARY:Partners in Education Info Session
DESCRIPTION:
URL:https://success.ccc.edu/event/partners-in-education-info-session-51/
CATEGORIES:Harold Washington,Harry S Truman,Kennedy-King,Malcolm X,Olive-Harvey,Richard J. Daley,Wilbur Wright
ATTACH;FMTTYPE=image/jpeg:https://success.ccc.edu/app/uploads/CHA-Calendar-Image.jpg
END:VEVENT
BEGIN:VEVENT
DTSTART;TZID=America/Chicago:20241016T103000
DTEND;TZID=America/Chicago:20241016T123000
DTSTAMP:20260419T183700
CREATED:20241010T195551Z
LAST-MODIFIED:20241010T195551Z
UID:10002501-1729074600-1729081800@success.ccc.edu
SUMMARY:Harold Washington: Financial Aid Completion Workshop
DESCRIPTION:
URL:https://success.ccc.edu/event/harold-washington-financial-aid-completion-workshop-6/
CATEGORIES:Harold Washington
ATTACH;FMTTYPE=image/jpeg:https://success.ccc.edu/app/uploads/Financial-Aid_Calendar.jpg
END:VEVENT
BEGIN:VEVENT
DTSTART;TZID=America/Chicago:20241016T120000
DTEND;TZID=America/Chicago:20241016T130000
DTSTAMP:20260419T183700
CREATED:20240829T194529Z
LAST-MODIFIED:20240829T194529Z
UID:10002160-1729080000-1729083600@success.ccc.edu
SUMMARY:Partners in Education Info Session
DESCRIPTION:
URL:https://success.ccc.edu/event/partners-in-education-info-session-50/
CATEGORIES:Harold Washington,Harry S Truman,Kennedy-King,Malcolm X,Olive-Harvey,Richard J. Daley,Wilbur Wright
ATTACH;FMTTYPE=image/jpeg:https://success.ccc.edu/app/uploads/CHA-Calendar-Image.jpg
END:VEVENT
BEGIN:VEVENT
DTSTART;TZID=America/Chicago:20241016T130000
DTEND;TZID=America/Chicago:20241016T160000
DTSTAMP:20260419T183700
CREATED:20241010T191030Z
LAST-MODIFIED:20241010T191030Z
UID:10002487-1729083600-1729094400@success.ccc.edu
SUMMARY:Harold Washington: Illinois Institute of Technology Table Visit
DESCRIPTION:
URL:https://success.ccc.edu/event/harold-washington-illinois-institute-of-technology-table-visit/
CATEGORIES:Harold Washington
ATTACH;FMTTYPE=image/png:https://success.ccc.edu/app/uploads/Transfer_Table_Per-College_HW.png
END:VEVENT
BEGIN:VEVENT
DTSTART;TZID=America/Chicago:20241017T103000
DTEND;TZID=America/Chicago:20241017T120000
DTSTAMP:20260419T183700
CREATED:20241016T202804Z
LAST-MODIFIED:20241016T202804Z
UID:10002568-1729161000-1729166400@success.ccc.edu
SUMMARY:Harold Washington: New Student Orientation
DESCRIPTION:
URL:https://success.ccc.edu/event/harold-washington-new-student-orientation-55/
CATEGORIES:Harold Washington
ATTACH;FMTTYPE=image/jpeg:https://success.ccc.edu/app/uploads/HW_Calendar-Image_02.jpg
END:VEVENT
BEGIN:VEVENT
DTSTART;TZID=America/Chicago:20241017T110000
DTEND;TZID=America/Chicago:20241017T140000
DTSTAMP:20260419T183700
CREATED:20241010T170618Z
LAST-MODIFIED:20241010T170618Z
UID:10002453-1729162800-1729173600@success.ccc.edu
SUMMARY:Harold Washington: Purple Thursday - Resource Fair & Workshop
DESCRIPTION:
URL:https://success.ccc.edu/event/harold-washington-purple-thursday-resource-fair-workshop/
CATEGORIES:Harold Washington
ATTACH;FMTTYPE=image/jpeg:https://success.ccc.edu/app/uploads/Project-SAFE-calendar-image.jpg
END:VEVENT
BEGIN:VEVENT
DTSTART;TZID=America/Chicago:20241017T130000
DTEND;TZID=America/Chicago:20241017T140000
DTSTAMP:20260419T183700
CREATED:20240920T211203Z
LAST-MODIFIED:20240920T211203Z
UID:10002347-1729170000-1729173600@success.ccc.edu
SUMMARY:Harold Washington: Domestic Violence Presentation with the Hobby Club & Project S.A.F.E.
DESCRIPTION:
URL:https://success.ccc.edu/event/harold-washington-domestic-violence-presentation-with-the-hobby-club-project-s-a-f-e/
CATEGORIES:Harold Washington
ATTACH;FMTTYPE=image/jpeg:https://success.ccc.edu/app/uploads/Project-SAFE-calendar-image.jpg
END:VEVENT
BEGIN:VEVENT
DTSTART;TZID=America/Chicago:20241017T150000
DTEND;TZID=America/Chicago:20241017T170000
DTSTAMP:20260419T183700
CREATED:20240809T201308Z
LAST-MODIFIED:20240809T201308Z
UID:10001896-1729177200-1729184400@success.ccc.edu
SUMMARY:Harold Washington: Entrepreneurship Expo
DESCRIPTION:
URL:https://success.ccc.edu/event/harold-washington-entrepreneurship-expo/
CATEGORIES:Harold Washington
ATTACH;FMTTYPE=image/png:https://success.ccc.edu/app/uploads/CalendarImage_CareerCenter_4_HW.png
END:VEVENT
BEGIN:VEVENT
DTSTART;TZID=America/Chicago:20241017T150000
DTEND;TZID=America/Chicago:20241017T170000
DTSTAMP:20260419T183700
CREATED:20241010T193255Z
LAST-MODIFIED:20241010T193255Z
UID:10002495-1729177200-1729184400@success.ccc.edu
SUMMARY:Harold Washington: Pop-Up Event for Star Scholars
DESCRIPTION:
URL:https://success.ccc.edu/event/harold-washington-pop-up-event-for-star-scholars/
CATEGORIES:Harold Washington
ATTACH;FMTTYPE=image/jpeg:https://success.ccc.edu/app/uploads/HW_Calendar-Image_01.jpg
END:VEVENT
BEGIN:VEVENT
DTSTART;TZID=America/Chicago:20241017T173000
DTEND;TZID=America/Chicago:20241017T193000
DTSTAMP:20260419T183700
CREATED:20240712T183721Z
LAST-MODIFIED:20240712T183721Z
UID:10001757-1729186200-1729193400@success.ccc.edu
SUMMARY:Harold Washington: Introduction to Small Business Management
DESCRIPTION:
URL:https://success.ccc.edu/event/harold-washington-introduction-to-small-business-management-3/
CATEGORIES:Harold Washington
ATTACH;FMTTYPE=image/jpeg:https://success.ccc.edu/app/uploads/FutrRdy_CE_Generic-2.jpg
END:VEVENT
BEGIN:VEVENT
DTSTART;TZID=America/Chicago:20241017T173000
DTEND;TZID=America/Chicago:20241017T193000
DTSTAMP:20260419T183700
CREATED:20240918T151714Z
LAST-MODIFIED:20240918T151714Z
UID:10002335-1729186200-1729193400@success.ccc.edu
SUMMARY:Harold Washington: Introduction to Small Business Management
DESCRIPTION:
URL:https://success.ccc.edu/event/harold-washington-introduction-to-small-business-management-5/
CATEGORIES:Harold Washington
ATTACH;FMTTYPE=image/jpeg:https://success.ccc.edu/app/uploads/FutrRdy_CE_Generic-2.jpg
END:VEVENT
BEGIN:VEVENT
DTSTART;TZID=America/Chicago:20241021T100000
DTEND;TZID=America/Chicago:20241021T120000
DTSTAMP:20260419T183700
CREATED:20241015T152434Z
LAST-MODIFIED:20241015T152434Z
UID:10002552-1729504800-1729512000@success.ccc.edu
SUMMARY:Harold Washington: Engineering Information Session
DESCRIPTION:
URL:https://success.ccc.edu/event/harold-washington-engineering-information-session/
CATEGORIES:Harold Washington
ATTACH;FMTTYPE=image/jpeg:https://success.ccc.edu/app/uploads/School-of-Engineering_Info-Sessioon_Calendar-image.jpg
END:VEVENT
BEGIN:VEVENT
DTSTART;TZID=America/Chicago:20241021T100000
DTEND;TZID=America/Chicago:20241021T130000
DTSTAMP:20260419T183700
CREATED:20241010T190844Z
LAST-MODIFIED:20241010T190844Z
UID:10002486-1729504800-1729515600@success.ccc.edu
SUMMARY:Harold Washington: Chicago State University Table Visit
DESCRIPTION:
URL:https://success.ccc.edu/event/harold-washington-chicago-state-university-table-visit/
CATEGORIES:Harold Washington
ATTACH;FMTTYPE=image/png:https://success.ccc.edu/app/uploads/Transfer_Table_Per-College_HW.png
END:VEVENT
BEGIN:VEVENT
DTSTART;TZID=America/Chicago:20241021T130000
DTEND;TZID=America/Chicago:20241021T150000
DTSTAMP:20260419T183700
CREATED:20240920T211059Z
LAST-MODIFIED:20240920T211059Z
UID:10002346-1729515600-1729522800@success.ccc.edu
SUMMARY:Harold Washington: Movie Monday
DESCRIPTION:
URL:https://success.ccc.edu/event/harold-washington-movie-monday-2/
CATEGORIES:Harold Washington
ATTACH;FMTTYPE=image/jpeg:https://success.ccc.edu/app/uploads/HW_Stdnt_Act_01.jpg
END:VEVENT
BEGIN:VEVENT
DTSTART;TZID=America/Chicago:20241021T130000
DTEND;TZID=America/Chicago:20241021T160000
DTSTAMP:20260419T183700
CREATED:20241010T190534Z
LAST-MODIFIED:20241010T190534Z
UID:10002485-1729515600-1729526400@success.ccc.edu
SUMMARY:Harold Washington: Governors State University Dual Degree Program Table Visit
DESCRIPTION:
URL:https://success.ccc.edu/event/harold-washington-governors-state-university-dual-degree-program-table-visit/
CATEGORIES:Harold Washington
ATTACH;FMTTYPE=image/png:https://success.ccc.edu/app/uploads/Transfer_Table_Per-College_HW.png
END:VEVENT
BEGIN:VEVENT
DTSTART;TZID=America/Chicago:20241022T140000
DTEND;TZID=America/Chicago:20241022T150000
DTSTAMP:20260419T183700
CREATED:20241010T185935Z
LAST-MODIFIED:20241010T185935Z
UID:10002482-1729605600-1729609200@success.ccc.edu
SUMMARY:National Transfer Student Week: ISAC Financial Aid Presentation
DESCRIPTION:
URL:https://success.ccc.edu/event/national-transfer-student-week-isac-financial-aid-presentation/
CATEGORIES:District-wide,Harold Washington,Harry S Truman,Kennedy-King,Malcolm X,Olive-Harvey,Richard J. Daley,Wilbur Wright
ATTACH;FMTTYPE=image/jpeg:https://success.ccc.edu/app/uploads/Transfer-Event-Oct22.jpg
END:VEVENT
BEGIN:VEVENT
DTSTART;TZID=America/Chicago:20241022T150000
DTEND;TZID=America/Chicago:20241022T160000
DTSTAMP:20260419T183700
CREATED:20240910T203445Z
LAST-MODIFIED:20240910T203445Z
UID:10001883-1729609200-1729612800@success.ccc.edu
SUMMARY:Harold Washington: USA Jobs (Virtual)
DESCRIPTION:
URL:https://success.ccc.edu/event/harold-washington-usa-jobs-virtual/
CATEGORIES:Harold Washington
ATTACH;FMTTYPE=image/png:https://success.ccc.edu/app/uploads/CalendarImage_CareerCenter_4_HW.png
END:VEVENT
END:VCALENDAR