BEGIN:VCALENDAR
VERSION:2.0
PRODID:-//CCC - ECPv6.11.2//NONSGML v1.0//EN
CALSCALE:GREGORIAN
METHOD:PUBLISH
X-ORIGINAL-URL:https://success.ccc.edu
X-WR-CALDESC:Events for CCC
REFRESH-INTERVAL;VALUE=DURATION:PT1H
X-Robots-Tag:noindex
X-PUBLISHED-TTL:PT1H
BEGIN:VTIMEZONE
TZID:America/Chicago
BEGIN:DAYLIGHT
TZOFFSETFROM:-0600
TZOFFSETTO:-0500
TZNAME:CDT
DTSTART:20260308T080000
END:DAYLIGHT
BEGIN:STANDARD
TZOFFSETFROM:-0500
TZOFFSETTO:-0600
TZNAME:CST
DTSTART:20261101T070000
END:STANDARD
END:VTIMEZONE
BEGIN:VEVENT
DTSTART;TZID=America/Chicago:20260429T100000
DTEND;TZID=America/Chicago:20260429T120000
DTSTAMP:20260420T192932
CREATED:20260416T195426Z
LAST-MODIFIED:20260416T195426Z
UID:10006355-1777456800-1777464000@success.ccc.edu
SUMMARY:Harold Washington: Financial Aid Completion Workshop
DESCRIPTION:
URL:https://success.ccc.edu/event/harold-washington-financial-aid-completion-workshop-37/
CATEGORIES:Harold Washington
ATTACH;FMTTYPE=image/jpeg:https://success.ccc.edu/app/uploads/HW_Calendar-Image_01-WZu76t.jpg
END:VEVENT
BEGIN:VEVENT
DTSTART;TZID=America/Chicago:20260429T103000
DTEND;TZID=America/Chicago:20260429T120000
DTSTAMP:20260420T192932
CREATED:20260316T165736Z
LAST-MODIFIED:20260316T165736Z
UID:10006226-1777458600-1777464000@success.ccc.edu
SUMMARY:Harold Washington: New Student Orientation
DESCRIPTION:
URL:https://success.ccc.edu/event/harold-washington-new-student-orientation-133/
CATEGORIES:Harold Washington
ATTACH;FMTTYPE=image/jpeg:https://success.ccc.edu/app/uploads/HW_Calendar-Image_02-veGUID.jpg
END:VEVENT
BEGIN:VEVENT
DTSTART;TZID=America/Chicago:20260430T183000
DTEND;TZID=America/Chicago:20260430T193000
DTSTAMP:20260420T192932
CREATED:20260112T223547Z
LAST-MODIFIED:20260112T223548Z
UID:10005692-1777573800-1777577400@success.ccc.edu
SUMMARY:Partners in Education Info Session
DESCRIPTION:
URL:https://success.ccc.edu/event/partners-in-education-info-session-147/
CATEGORIES:District-wide,Harold Washington,Harry S Truman,Kennedy-King,Malcolm X,Olive-Harvey,Richard J. Daley,Wilbur Wright
ATTACH;FMTTYPE=image/jpeg:https://success.ccc.edu/app/uploads/CHA-Calendar-Image-90uwMj.jpg
END:VEVENT
BEGIN:VEVENT
DTSTART;TZID=America/Chicago:20260430T183000
DTEND;TZID=America/Chicago:20260430T193000
DTSTAMP:20260420T192932
CREATED:20260127T155720Z
LAST-MODIFIED:20260127T155720Z
UID:10005913-1777573800-1777577400@success.ccc.edu
SUMMARY:Partners in Education Info Session
DESCRIPTION:
URL:https://success.ccc.edu/event/partners-in-education-info-session-168/
CATEGORIES:District-wide,Harold Washington,Harry S Truman,Kennedy-King,Malcolm X,Olive-Harvey,Richard J. Daley,Wilbur Wright
ATTACH;FMTTYPE=image/jpeg:https://success.ccc.edu/app/uploads/CHA-Calendar-Image-90uwMj.jpg
END:VEVENT
BEGIN:VEVENT
DTSTART;TZID=America/Chicago:20260501T173000
DTEND;TZID=America/Chicago:20260501T210000
DTSTAMP:20260420T192932
CREATED:20260416T195317Z
LAST-MODIFIED:20260416T195317Z
UID:10006353-1777656600-1777669200@success.ccc.edu
SUMMARY:Harold Washington: Masquerade Gala
DESCRIPTION:
URL:https://success.ccc.edu/event/harold-washington-masquerade-gala/
CATEGORIES:Harold Washington
ATTACH;FMTTYPE=image/jpeg:https://success.ccc.edu/app/uploads/HW_Stdnt_Act_01-u7fppU.jpg
END:VEVENT
BEGIN:VEVENT
DTSTART;TZID=America/Chicago:20260504T110000
DTEND;TZID=America/Chicago:20260504T120000
DTSTAMP:20260420T192932
CREATED:20260416T195304Z
LAST-MODIFIED:20260416T195305Z
UID:10006352-1777892400-1777896000@success.ccc.edu
SUMMARY:Harold Washington: Finals Stress Management Workshop
DESCRIPTION:
URL:https://success.ccc.edu/event/harold-washington-finals-stress-management-workshop/
CATEGORIES:Harold Washington
ATTACH;FMTTYPE=image/jpeg:https://success.ccc.edu/app/uploads/HW_Stdnt_Act_01-u7fppU.jpg
END:VEVENT
BEGIN:VEVENT
DTSTART;TZID=America/Chicago:20260504T120000
DTEND;TZID=America/Chicago:20260504T140000
DTSTAMP:20260420T192932
CREATED:20260416T195056Z
LAST-MODIFIED:20260416T195159Z
UID:10006351-1777896000-1777903200@success.ccc.edu
SUMMARY:Harold Washington: Asian-American Pacific Islander Month Lunch & Learn
DESCRIPTION:
URL:https://success.ccc.edu/event/harold-washington-asian-american-pacific-islander-month-lunch-learn/
CATEGORIES:Harold Washington
ATTACH;FMTTYPE=image/png:https://success.ccc.edu/app/uploads/AAPIHM_LCD_HW-1.png
END:VEVENT
BEGIN:VEVENT
DTSTART;TZID=America/Chicago:20260505T103000
DTEND;TZID=America/Chicago:20260505T143000
DTSTAMP:20260420T192932
CREATED:20260416T200236Z
LAST-MODIFIED:20260416T200236Z
UID:10006358-1777977000-1777991400@success.ccc.edu
SUMMARY:Harold Washington: Blood Drive
DESCRIPTION:
URL:https://success.ccc.edu/event/harold-washington-blood-drive/
CATEGORIES:Harold Washington
ATTACH;FMTTYPE=image/jpeg:https://success.ccc.edu/app/uploads/HW_Calendar-Image_01-WZu76t.jpg
END:VEVENT
BEGIN:VEVENT
DTSTART;TZID=America/Chicago:20260506T103000
DTEND;TZID=America/Chicago:20260506T120000
DTSTAMP:20260420T192932
CREATED:20260317T152634Z
LAST-MODIFIED:20260317T152635Z
UID:10006235-1778063400-1778068800@success.ccc.edu
SUMMARY:Harold Washington: New Student Orientation
DESCRIPTION:
URL:https://success.ccc.edu/event/harold-washington-new-student-orientation-136/
CATEGORIES:Harold Washington
ATTACH;FMTTYPE=image/jpeg:https://success.ccc.edu/app/uploads/HW_Calendar-Image_03-p8b7Zc.jpg
END:VEVENT
BEGIN:VEVENT
DTSTART;TZID=America/Chicago:20260506T103000
DTEND;TZID=America/Chicago:20260506T123000
DTSTAMP:20260420T192932
CREATED:20260416T200342Z
LAST-MODIFIED:20260416T200343Z
UID:10006359-1778063400-1778070600@success.ccc.edu
SUMMARY:Harold Washington: New Student Orientation
DESCRIPTION:
URL:https://success.ccc.edu/event/harold-washington-new-student-orientation-143/
CATEGORIES:Harold Washington
ATTACH;FMTTYPE=image/jpeg:https://success.ccc.edu/app/uploads/HW_Calendar-Image_01-WZu76t.jpg
END:VEVENT
BEGIN:VEVENT
DTSTART;TZID=America/Chicago:20260507T130000
DTEND;TZID=America/Chicago:20260507T173000
DTSTAMP:20260420T192932
CREATED:20260410T213619Z
LAST-MODIFIED:20260410T213619Z
UID:10006331-1778158800-1778175000@success.ccc.edu
SUMMARY:Harold Washington: Satisfactory Academic Progress Workshop
DESCRIPTION:
URL:https://success.ccc.edu/event/harold-washington-satisfactory-academic-progress-workshop-18/
CATEGORIES:Harold Washington
ATTACH;FMTTYPE=image/jpeg:https://success.ccc.edu/app/uploads/HW_Calendar-Image_01-WZu76t.jpg
END:VEVENT
BEGIN:VEVENT
DTSTART;TZID=America/Chicago:20260513T103000
DTEND;TZID=America/Chicago:20260513T120000
DTSTAMP:20260420T192932
CREATED:20260413T202514Z
LAST-MODIFIED:20260413T202515Z
UID:10006341-1778668200-1778673600@success.ccc.edu
SUMMARY:Harold Washington: New Student Orientation
DESCRIPTION:
URL:https://success.ccc.edu/event/harold-washington-new-student-orientation-140/
CATEGORIES:Harold Washington
ATTACH;FMTTYPE=image/jpeg:https://success.ccc.edu/app/uploads/HW_Calendar-Image_03-p8b7Zc.jpg
END:VEVENT
BEGIN:VEVENT
DTSTART;TZID=America/Chicago:20260514T130000
DTEND;TZID=America/Chicago:20260514T150000
DTSTAMP:20260420T192932
CREATED:20260413T202928Z
LAST-MODIFIED:20260413T202928Z
UID:10006344-1778763600-1778770800@success.ccc.edu
SUMMARY:Harold Washington: Satisfactory Academic Progress Workshop
DESCRIPTION:
URL:https://success.ccc.edu/event/harold-washington-satisfactory-academic-progress-workshop-19/
CATEGORIES:Harold Washington
ATTACH;FMTTYPE=image/jpeg:https://success.ccc.edu/app/uploads/HW_Calendar-Image_01-WZu76t.jpg
END:VEVENT
BEGIN:VEVENT
DTSTART;TZID=America/Chicago:20260514T183000
DTEND;TZID=America/Chicago:20260514T193000
DTSTAMP:20260420T192932
CREATED:20260115T215648Z
LAST-MODIFIED:20260115T215648Z
UID:10005799-1778783400-1778787000@success.ccc.edu
SUMMARY:Partners in Education Info Session
DESCRIPTION:
URL:https://success.ccc.edu/event/partners-in-education-info-session-157/
CATEGORIES:District-wide,Harold Washington,Harry S Truman,Kennedy-King,Malcolm X,Olive-Harvey,Richard J. Daley,Wilbur Wright
ATTACH;FMTTYPE=image/jpeg:https://success.ccc.edu/app/uploads/CHA-Calendar-Image-90uwMj.jpg
END:VEVENT
BEGIN:VEVENT
DTSTART;TZID=America/Chicago:20260520T103000
DTEND;TZID=America/Chicago:20260520T120000
DTSTAMP:20260420T192932
CREATED:20260413T203404Z
LAST-MODIFIED:20260413T203404Z
UID:10006345-1779273000-1779278400@success.ccc.edu
SUMMARY:Harold Washington: New Student Orientation
DESCRIPTION:
URL:https://success.ccc.edu/event/harold-washington-new-student-orientation-141/
CATEGORIES:Harold Washington
ATTACH;FMTTYPE=image/jpeg:https://success.ccc.edu/app/uploads/HW_Calendar-Image_01-WZu76t.jpg
END:VEVENT
BEGIN:VEVENT
DTSTART;TZID=America/Chicago:20260520T103000
DTEND;TZID=America/Chicago:20260520T120000
DTSTAMP:20260420T192932
CREATED:20260413T203416Z
LAST-MODIFIED:20260413T203416Z
UID:10006347-1779273000-1779278400@success.ccc.edu
SUMMARY:Harold Washington: New Student Orientation
DESCRIPTION:
URL:https://success.ccc.edu/event/harold-washington-new-student-orientation-142/
CATEGORIES:Harold Washington
ATTACH;FMTTYPE=image/jpeg:https://success.ccc.edu/app/uploads/HW_Calendar-Image_02-veGUID.jpg
END:VEVENT
BEGIN:VEVENT
DTSTART;TZID=America/Chicago:20260527T103000
DTEND;TZID=America/Chicago:20260527T123000
DTSTAMP:20260420T192932
CREATED:20260330T215127Z
LAST-MODIFIED:20260330T215128Z
UID:10006260-1779877800-1779885000@success.ccc.edu
SUMMARY:Harold Washington: New Student Orientation
DESCRIPTION:
URL:https://success.ccc.edu/event/harold-washington-new-student-orientation-137/
CATEGORIES:Harold Washington
ATTACH;FMTTYPE=image/jpeg:https://success.ccc.edu/app/uploads/HW_Calendar-Image_03-p8b7Zc.jpg
END:VEVENT
BEGIN:VEVENT
DTSTART;TZID=America/Chicago:20260528T130000
DTEND;TZID=America/Chicago:20260528T173000
DTSTAMP:20260420T192932
CREATED:20260330T215124Z
LAST-MODIFIED:20260330T215125Z
UID:10006261-1779973200-1779989400@success.ccc.edu
SUMMARY:Harold Washington: Satisfactory Academic Progress Workshop
DESCRIPTION:
URL:https://success.ccc.edu/event/harold-washington-satisfactory-academic-progress-workshop-15/
CATEGORIES:Harold Washington
ATTACH;FMTTYPE=image/jpeg:https://success.ccc.edu/app/uploads/HW_Calendar-Image_01-WZu76t.jpg
END:VEVENT
BEGIN:VEVENT
DTSTART;TZID=America/Chicago:20260529T103000
DTEND;TZID=America/Chicago:20260529T120000
DTSTAMP:20260420T192932
CREATED:20260317T150803Z
LAST-MODIFIED:20260317T150803Z
UID:10006230-1780050600-1780056000@success.ccc.edu
SUMMARY:Harold Washington: Virtual New Student Orientation
DESCRIPTION:
URL:https://success.ccc.edu/event/harold-washington-virtual-new-student-orientation-18/
CATEGORIES:Harold Washington
ATTACH;FMTTYPE=image/jpeg:https://success.ccc.edu/app/uploads/HW_Calendar-Image_01-WZu76t.jpg
END:VEVENT
BEGIN:VEVENT
DTSTART;TZID=America/Chicago:20260529T103000
DTEND;TZID=America/Chicago:20260529T120000
DTSTAMP:20260420T192932
CREATED:20260317T150911Z
LAST-MODIFIED:20260317T150911Z
UID:10006232-1780050600-1780056000@success.ccc.edu
SUMMARY:Harold Washington: Virtual New Student Orientation
DESCRIPTION:
URL:https://success.ccc.edu/event/harold-washington-virtual-new-student-orientation-19/
CATEGORIES:Harold Washington
ATTACH;FMTTYPE=image/jpeg:https://success.ccc.edu/app/uploads/HW_Calendar-Image_01-WZu76t.jpg
END:VEVENT
BEGIN:VEVENT
DTSTART;TZID=America/Chicago:20260603T103000
DTEND;TZID=America/Chicago:20260603T120000
DTSTAMP:20260420T192932
CREATED:20260317T150924Z
LAST-MODIFIED:20260317T150924Z
UID:10006234-1780482600-1780488000@success.ccc.edu
SUMMARY:Harold Washington: New Student Orientation
DESCRIPTION:
URL:https://success.ccc.edu/event/harold-washington-new-student-orientation-135/
CATEGORIES:Harold Washington
ATTACH;FMTTYPE=image/jpeg:https://success.ccc.edu/app/uploads/HW_Calendar-Image_02-veGUID.jpg
END:VEVENT
BEGIN:VEVENT
DTSTART;TZID=America/Chicago:20260603T103000
DTEND;TZID=America/Chicago:20260603T120000
DTSTAMP:20260420T192932
CREATED:20260317T151033Z
LAST-MODIFIED:20260317T151034Z
UID:10006233-1780482600-1780488000@success.ccc.edu
SUMMARY:Harold Washington: New Student Orientation
DESCRIPTION:
URL:https://success.ccc.edu/event/harold-washington-new-student-orientation-134/
CATEGORIES:Harold Washington
ATTACH;FMTTYPE=image/jpeg:https://success.ccc.edu/app/uploads/HW_Calendar-Image_02-veGUID.jpg
END:VEVENT
BEGIN:VEVENT
DTSTART;TZID=America/Chicago:20260604T130000
DTEND;TZID=America/Chicago:20260604T173000
DTSTAMP:20260420T192932
CREATED:20260319T211512Z
LAST-MODIFIED:20260319T211513Z
UID:10006243-1780578000-1780594200@success.ccc.edu
SUMMARY:Harold Washington: Satisfactory Academic Progress Workshop
DESCRIPTION:
URL:https://success.ccc.edu/event/harold-washington-satisfactory-academic-progress-workshop-13/
CATEGORIES:Harold Washington
ATTACH;FMTTYPE=image/jpeg:https://success.ccc.edu/app/uploads/HW_Calendar-Image_01-WZu76t.jpg
END:VEVENT
BEGIN:VEVENT
DTSTART;TZID=America/Chicago:20260604T150000
DTEND;TZID=America/Chicago:20260604T163000
DTSTAMP:20260420T192932
CREATED:20260316T163046Z
LAST-MODIFIED:20260316T163048Z
UID:10006215-1780585200-1780590600@success.ccc.edu
SUMMARY:Harold Washington: New Student Orientation
DESCRIPTION:
URL:https://success.ccc.edu/event/harold-washington-new-student-orientation-128/
CATEGORIES:Harold Washington
ATTACH;FMTTYPE=image/jpeg:https://success.ccc.edu/app/uploads/HW_Calendar-Image_03-p8b7Zc.jpg
END:VEVENT
BEGIN:VEVENT
DTSTART;TZID=America/Chicago:20260610T103000
DTEND;TZID=America/Chicago:20260610T120000
DTSTAMP:20260420T192932
CREATED:20260316T163033Z
LAST-MODIFIED:20260316T163034Z
UID:10006216-1781087400-1781092800@success.ccc.edu
SUMMARY:Harold Washington: New Student Orientation
DESCRIPTION:
URL:https://success.ccc.edu/event/harold-washington-new-student-orientation-129/
CATEGORIES:Harold Washington
ATTACH;FMTTYPE=image/jpeg:https://success.ccc.edu/app/uploads/HW_Calendar-Image_02-veGUID.jpg
END:VEVENT
BEGIN:VEVENT
DTSTART;TZID=America/Chicago:20260611T130000
DTEND;TZID=America/Chicago:20260611T173000
DTSTAMP:20260420T192932
CREATED:20260319T211657Z
LAST-MODIFIED:20260319T211657Z
UID:10006245-1781182800-1781199000@success.ccc.edu
SUMMARY:Harold Washington: Satisfactory Academic Progress Workshop
DESCRIPTION:
URL:https://success.ccc.edu/event/harold-washington-satisfactory-academic-progress-workshop-14/
CATEGORIES:Harold Washington
ATTACH;FMTTYPE=image/jpeg:https://success.ccc.edu/app/uploads/HW_Calendar-Image_01-WZu76t.jpg
END:VEVENT
BEGIN:VEVENT
DTSTART;TZID=America/Chicago:20260611T150000
DTEND;TZID=America/Chicago:20260611T160000
DTSTAMP:20260420T192932
CREATED:20260316T163043Z
LAST-MODIFIED:20260316T163044Z
UID:10006219-1781190000-1781193600@success.ccc.edu
SUMMARY:Harold Washington: New Student Orientation
DESCRIPTION:
URL:https://success.ccc.edu/event/harold-washington-new-student-orientation-130/
CATEGORIES:Harold Washington
ATTACH;FMTTYPE=image/jpeg:https://success.ccc.edu/app/uploads/HW_Calendar-Image_03-p8b7Zc.jpg
END:VEVENT
BEGIN:VEVENT
DTSTART;TZID=America/Chicago:20260611T183000
DTEND;TZID=America/Chicago:20260611T193000
DTSTAMP:20260420T192932
CREATED:20260112T223746Z
LAST-MODIFIED:20260112T223747Z
UID:10005697-1781202600-1781206200@success.ccc.edu
SUMMARY:Partners in Education Info Session
DESCRIPTION:
URL:https://success.ccc.edu/event/partners-in-education-info-session-148/
CATEGORIES:District-wide,Harold Washington,Harry S Truman,Kennedy-King,Malcolm X,Olive-Harvey,Richard J. Daley,Wilbur Wright
ATTACH;FMTTYPE=image/jpeg:https://success.ccc.edu/app/uploads/CHA-Calendar-Image-90uwMj.jpg
END:VEVENT
BEGIN:VEVENT
DTSTART;TZID=America/Chicago:20260612T103000
DTEND;TZID=America/Chicago:20260612T120000
DTSTAMP:20260420T192932
CREATED:20260319T211549Z
LAST-MODIFIED:20260319T211549Z
UID:10006244-1781260200-1781265600@success.ccc.edu
SUMMARY:Harold Washington: Virtual New Student Orientation
DESCRIPTION:
URL:https://success.ccc.edu/event/harold-washington-virtual-new-student-orientation-20/
CATEGORIES:Harold Washington
ATTACH;FMTTYPE=image/jpeg:https://success.ccc.edu/app/uploads/HW_Stdnt_Act_01-u7fppU.jpg
END:VEVENT
BEGIN:VEVENT
DTSTART;TZID=America/Chicago:20260617T103000
DTEND;TZID=America/Chicago:20260617T120000
DTSTAMP:20260420T192932
CREATED:20260409T174021Z
LAST-MODIFIED:20260409T174021Z
UID:10006323-1781692200-1781697600@success.ccc.edu
SUMMARY:Harold Washington: New Student Orientation
DESCRIPTION:
URL:https://success.ccc.edu/event/harold-washington-new-student-orientation-138/
CATEGORIES:Harold Washington
ATTACH;FMTTYPE=image/jpeg:https://success.ccc.edu/app/uploads/HW_Calendar-Image_02-veGUID.jpg
END:VEVENT
END:VCALENDAR