BEGIN:VCALENDAR
VERSION:2.0
PRODID:-//CCC - ECPv6.11.2//NONSGML v1.0//EN
CALSCALE:GREGORIAN
METHOD:PUBLISH
X-ORIGINAL-URL:https://success.ccc.edu
X-WR-CALDESC:Events for CCC
REFRESH-INTERVAL;VALUE=DURATION:PT1H
X-Robots-Tag:noindex
X-PUBLISHED-TTL:PT1H
BEGIN:VTIMEZONE
TZID:America/Chicago
BEGIN:DAYLIGHT
TZOFFSETFROM:-0600
TZOFFSETTO:-0500
TZNAME:CDT
DTSTART:20250309T080000
END:DAYLIGHT
BEGIN:STANDARD
TZOFFSETFROM:-0500
TZOFFSETTO:-0600
TZNAME:CST
DTSTART:20251102T070000
END:STANDARD
END:VTIMEZONE
BEGIN:VEVENT
DTSTART;TZID=America/Chicago:20250318T123000
DTEND;TZID=America/Chicago:20250318T133000
DTSTAMP:20260419T234307
CREATED:20250228T183947Z
LAST-MODIFIED:20250228T183947Z
UID:10003728-1742301000-1742304600@success.ccc.edu
SUMMARY:Star Scholarship Information Session
DESCRIPTION:
URL:https://success.ccc.edu/event/star-scholarship-information-session/
CATEGORIES:District-wide,Harold Washington,Harry S Truman,Kennedy-King,Malcolm X,Olive-Harvey,Richard J. Daley,Wilbur Wright
ATTACH;FMTTYPE=image/jpeg:https://success.ccc.edu/app/uploads/Star-Scholarship-Calendar-Image.jpg
END:VEVENT
BEGIN:VEVENT
DTSTART;TZID=America/Chicago:20250318T130000
DTEND;TZID=America/Chicago:20250318T140000
DTSTAMP:20260419T234307
CREATED:20250205T222744Z
LAST-MODIFIED:20250205T222744Z
UID:10003581-1742302800-1742306400@success.ccc.edu
SUMMARY:Harold Washington: Resume Workshop Series
DESCRIPTION:
URL:https://success.ccc.edu/event/harold-washington-resume-workshop-series/
CATEGORIES:Harold Washington
ATTACH;FMTTYPE=image/png:https://success.ccc.edu/app/uploads/CalendarImage_CareerCenter_4_HW.png
END:VEVENT
BEGIN:VEVENT
DTSTART;TZID=America/Chicago:20250318T130000
DTEND;TZID=America/Chicago:20250318T160000
DTSTAMP:20260419T234307
CREATED:20250304T223801Z
LAST-MODIFIED:20250304T223801Z
UID:10003765-1742302800-1742313600@success.ccc.edu
SUMMARY:Harold Washington: National University Table Visit
DESCRIPTION:
URL:https://success.ccc.edu/event/harold-washington-national-university-table-visit-2/
CATEGORIES:Harold Washington
ATTACH;FMTTYPE=image/png:https://success.ccc.edu/app/uploads/Transfer_Table_Per-College_HW.png
END:VEVENT
BEGIN:VEVENT
DTSTART;TZID=America/Chicago:20250318T140000
DTEND;TZID=America/Chicago:20250318T160000
DTSTAMP:20260419T234307
CREATED:20250310T175300Z
LAST-MODIFIED:20250310T175300Z
UID:10003773-1742306400-1742313600@success.ccc.edu
SUMMARY:Harold Washington: Are You Ready to Transfer Workshop
DESCRIPTION:
URL:https://success.ccc.edu/event/harold-washington-are-you-ready-to-transfer-workshop-2/
CATEGORIES:Harold Washington
ATTACH;FMTTYPE=image/png:https://success.ccc.edu/app/uploads/Transfer_Per-College_HW.png
END:VEVENT
BEGIN:VEVENT
DTSTART;TZID=America/Chicago:20250319T100000
DTEND;TZID=America/Chicago:20250319T130000
DTSTAMP:20260419T234307
CREATED:20250304T223946Z
LAST-MODIFIED:20250304T223946Z
UID:10003769-1742378400-1742389200@success.ccc.edu
SUMMARY:Harold Washington: Elmhurst University Table Visit
DESCRIPTION:
URL:https://success.ccc.edu/event/harold-washington-elmhurst-university-table-visit-5/
CATEGORIES:Harold Washington
ATTACH;FMTTYPE=image/png:https://success.ccc.edu/app/uploads/Transfer_Table_Per-College_HW.png
END:VEVENT
BEGIN:VEVENT
DTSTART;TZID=America/Chicago:20250319T140000
DTEND;TZID=America/Chicago:20250319T150000
DTSTAMP:20260419T234307
CREATED:20250310T175312Z
LAST-MODIFIED:20250310T175312Z
UID:10003774-1742392800-1742396400@success.ccc.edu
SUMMARY:Harold Washington: Transfer 101 Toks
DESCRIPTION:
URL:https://success.ccc.edu/event/harold-washington-transfer-101-toks/
CATEGORIES:Harold Washington
ATTACH;FMTTYPE=image/png:https://success.ccc.edu/app/uploads/Transfer_Per-College_HW.png
END:VEVENT
BEGIN:VEVENT
DTSTART;TZID=America/Chicago:20250319T180000
DTEND;TZID=America/Chicago:20250319T200000
DTSTAMP:20260419T234307
CREATED:20250212T180205Z
LAST-MODIFIED:20250212T180205Z
UID:10003654-1742407200-1742414400@success.ccc.edu
SUMMARY:Harold Washington: Project Management Fundamentals CAPM course
DESCRIPTION:
URL:https://success.ccc.edu/event/harold-washington-project-management-fundamentals-capm-course/
CATEGORIES:Harold Washington
ATTACH;FMTTYPE=image/jpeg:https://success.ccc.edu/app/uploads/CE_Business.jpg
END:VEVENT
BEGIN:VEVENT
DTSTART;TZID=America/Chicago:20250319T190000
DTEND;TZID=America/Chicago:20250319T210000
DTSTAMP:20260419T234307
CREATED:20250310T230201Z
LAST-MODIFIED:20250310T230201Z
UID:10003777-1742410800-1742418000@success.ccc.edu
SUMMARY:Harold Washington: Loop Players Present: The Trojan Women
DESCRIPTION:
URL:https://success.ccc.edu/event/harold-washington-loop-players-present-the-trojan-women/
CATEGORIES:Harold Washington
ATTACH;FMTTYPE=image/jpeg:https://success.ccc.edu/app/uploads/HW_Calendar-Image_01.jpg
END:VEVENT
BEGIN:VEVENT
DTSTART;TZID=America/Chicago:20250320T130000
DTEND;TZID=America/Chicago:20250320T160000
DTSTAMP:20260419T234307
CREATED:20250304T224059Z
LAST-MODIFIED:20250304T224059Z
UID:10003771-1742475600-1742486400@success.ccc.edu
SUMMARY:Harold Washington: Valparaiso University Table Visit
DESCRIPTION:
URL:https://success.ccc.edu/event/harold-washington-valparaiso-university-table-visit-5/
CATEGORIES:Harold Washington
ATTACH;FMTTYPE=image/png:https://success.ccc.edu/app/uploads/Transfer_Table_Per-College_HW.png
END:VEVENT
BEGIN:VEVENT
DTSTART;TZID=America/Chicago:20250320T150000
DTEND;TZID=America/Chicago:20250320T170000
DTSTAMP:20260419T234307
CREATED:20250221T184252Z
LAST-MODIFIED:20250303T222839Z
UID:10003708-1742482800-1742490000@success.ccc.edu
SUMMARY:Harold Washington: Women Leading Innovation in Tech
DESCRIPTION:
URL:https://success.ccc.edu/event/harold-washington-women-leading-innovation-in-tech/
CATEGORIES:Harold Washington
ATTACH;FMTTYPE=image/png:https://success.ccc.edu/app/uploads/WHM_LCD_HW.png
END:VEVENT
BEGIN:VEVENT
DTSTART;TZID=America/Chicago:20250320T190000
DTEND;TZID=America/Chicago:20250320T210000
DTSTAMP:20260419T234307
CREATED:20250310T230206Z
LAST-MODIFIED:20250310T230206Z
UID:10003779-1742497200-1742504400@success.ccc.edu
SUMMARY:Harold Washington: Loop Players Present: The Trojan Women
DESCRIPTION:
URL:https://success.ccc.edu/event/harold-washington-loop-players-present-the-trojan-women-3/
CATEGORIES:Harold Washington
ATTACH;FMTTYPE=image/jpeg:https://success.ccc.edu/app/uploads/HW_Calendar-Image_01.jpg
END:VEVENT
BEGIN:VEVENT
DTSTART;TZID=America/Chicago:20250321T190000
DTEND;TZID=America/Chicago:20250321T210000
DTSTAMP:20260419T234307
CREATED:20250310T230218Z
LAST-MODIFIED:20250310T230218Z
UID:10003780-1742583600-1742590800@success.ccc.edu
SUMMARY:Harold Washington: Loop Players Present: The Trojan Women
DESCRIPTION:
URL:https://success.ccc.edu/event/harold-washington-loop-players-present-the-trojan-women-4/
CATEGORIES:Harold Washington
ATTACH;FMTTYPE=image/jpeg:https://success.ccc.edu/app/uploads/HW_Calendar-Image_01.jpg
END:VEVENT
BEGIN:VEVENT
DTSTART;TZID=America/Chicago:20250322T190000
DTEND;TZID=America/Chicago:20250322T210000
DTSTAMP:20260419T234307
CREATED:20250310T230222Z
LAST-MODIFIED:20250310T230222Z
UID:10003781-1742670000-1742677200@success.ccc.edu
SUMMARY:Harold Washington: Loop Players Present: The Trojan Women
DESCRIPTION:
URL:https://success.ccc.edu/event/harold-washington-loop-players-present-the-trojan-women-5/
CATEGORIES:Harold Washington
ATTACH;FMTTYPE=image/jpeg:https://success.ccc.edu/app/uploads/HW_Calendar-Image_01.jpg
END:VEVENT
BEGIN:VEVENT
DTSTART;TZID=America/Chicago:20250331T100000
DTEND;TZID=America/Chicago:20250331T130000
DTSTAMP:20260419T234307
CREATED:20250304T224110Z
LAST-MODIFIED:20250304T224110Z
UID:10003770-1743415200-1743426000@success.ccc.edu
SUMMARY:Harold Washington: Northwestern University School for Professional Studies (SPS) Table Visits
DESCRIPTION:
URL:https://success.ccc.edu/event/harold-washington-northwestern-university-school-for-professional-studies-sps-table-visits/
CATEGORIES:Harold Washington
ATTACH;FMTTYPE=image/png:https://success.ccc.edu/app/uploads/Transfer_Table_Per-College_HW.png
END:VEVENT
BEGIN:VEVENT
DTSTART;TZID=America/Chicago:20250331T130000
DTEND;TZID=America/Chicago:20250331T160000
DTSTAMP:20260419T234307
CREATED:20250310T175328Z
LAST-MODIFIED:20250310T175328Z
UID:10003775-1743426000-1743436800@success.ccc.edu
SUMMARY:Harold Washington: National Louis University Table Visit
DESCRIPTION:
URL:https://success.ccc.edu/event/harold-washington-national-louis-university-table-visit-2/
CATEGORIES:Harold Washington
ATTACH;FMTTYPE=image/png:https://success.ccc.edu/app/uploads/Transfer_Table_Per-College_HW.png
END:VEVENT
BEGIN:VEVENT
DTSTART;TZID=America/Chicago:20250401T180000
DTEND;TZID=America/Chicago:20250401T190000
DTSTAMP:20260419T234307
CREATED:20250212T180116Z
LAST-MODIFIED:20250212T180117Z
UID:10003648-1743530400-1743534000@success.ccc.edu
SUMMARY:Understanding Tax Basics & Onboarding Paperwork
DESCRIPTION:
URL:https://success.ccc.edu/event/understanding-tax-basics-onboarding-paperwork-3/
CATEGORIES:District-wide,Harold Washington,Harry S Truman,Kennedy-King,Malcolm X,Olive-Harvey,Richard J. Daley,Wilbur Wright
ATTACH;FMTTYPE=image/jpeg:https://success.ccc.edu/app/uploads/DO_Calendar-Image_01-e1709153611957-wuAWoR.tmp_.jpg
END:VEVENT
BEGIN:VEVENT
DTSTART;TZID=America/Chicago:20250402T100000
DTEND;TZID=America/Chicago:20250402T120000
DTSTAMP:20260419T234307
CREATED:20250320T193741Z
LAST-MODIFIED:20250320T193741Z
UID:10003879-1743588000-1743595200@success.ccc.edu
SUMMARY:Harold Washington: Financial Aid Completion/Alternative Application (RISE ACT) Workshop
DESCRIPTION:
URL:https://success.ccc.edu/event/harold-washington-financial-aid-completion-alternative-application-rise-act-workshop-3/
CATEGORIES:Harold Washington
ATTACH;FMTTYPE=image/jpeg:https://success.ccc.edu/app/uploads/Financial-Aid_Calendar.jpg
END:VEVENT
BEGIN:VEVENT
DTSTART;TZID=America/Chicago:20250402T100000
DTEND;TZID=America/Chicago:20250402T130000
DTSTAMP:20260419T234307
CREATED:20250313T144851Z
LAST-MODIFIED:20250313T183253Z
UID:10003812-1743588000-1743598800@success.ccc.edu
SUMMARY:Business and Tech Info Session
DESCRIPTION:
URL:https://success.ccc.edu/event/business-and-tech-fair/
CATEGORIES:District-wide,Harold Washington,Harry S Truman,Kennedy-King,Malcolm X,Olive-Harvey,Richard J. Daley,Wilbur Wright
ATTACH;FMTTYPE=image/jpeg:https://success.ccc.edu/app/uploads/DO_Stdnt_Act_01.jpg
END:VEVENT
BEGIN:VEVENT
DTSTART;TZID=America/Chicago:20250402T130000
DTEND;TZID=America/Chicago:20250402T160000
DTSTAMP:20260419T234307
CREATED:20250310T175338Z
LAST-MODIFIED:20250310T175338Z
UID:10003776-1743598800-1743609600@success.ccc.edu
SUMMARY:Harold Washington: National University Table Visit
DESCRIPTION:
URL:https://success.ccc.edu/event/harold-washington-national-university-table-visit-3/
CATEGORIES:Harold Washington
ATTACH;FMTTYPE=image/png:https://success.ccc.edu/app/uploads/Transfer_Table_Per-College_HW.png
END:VEVENT
BEGIN:VEVENT
DTSTART;TZID=America/Chicago:20250403T100000
DTEND;TZID=America/Chicago:20250403T130000
DTSTAMP:20260419T234307
CREATED:20250317T204719Z
LAST-MODIFIED:20250317T204719Z
UID:10003820-1743674400-1743685200@success.ccc.edu
SUMMARY:Harold Washington: Loyola University Chicago Table Visit
DESCRIPTION:
URL:https://success.ccc.edu/event/harold-washington-loyola-university-chicago-table-visit-2/
CATEGORIES:Harold Washington
ATTACH;FMTTYPE=image/png:https://success.ccc.edu/app/uploads/Transfer_Table_Per-College_HW.png
END:VEVENT
BEGIN:VEVENT
DTSTART;TZID=America/Chicago:20250403T123000
DTEND;TZID=America/Chicago:20250403T143000
DTSTAMP:20260419T234307
CREATED:20250317T204709Z
LAST-MODIFIED:20250317T204709Z
UID:10003819-1743683400-1743690600@success.ccc.edu
SUMMARY:Harold Washington: Student Involvement Fair
DESCRIPTION:
URL:https://success.ccc.edu/event/harold-washington-student-involvement-fair-2/
CATEGORIES:Harold Washington
ATTACH;FMTTYPE=image/jpeg:https://success.ccc.edu/app/uploads/HW_Stdnt_Act_01.jpg
END:VEVENT
BEGIN:VEVENT
DTSTART;TZID=America/Chicago:20250403T130000
DTEND;TZID=America/Chicago:20250403T160000
DTSTAMP:20260419T234307
CREATED:20250317T204633Z
LAST-MODIFIED:20250317T204633Z
UID:10003818-1743685200-1743696000@success.ccc.edu
SUMMARY:Harold Washington: National Louis University Table Visit
DESCRIPTION:
URL:https://success.ccc.edu/event/harold-washington-national-louis-university-table-visit-3/
CATEGORIES:Harold Washington
ATTACH;FMTTYPE=image/png:https://success.ccc.edu/app/uploads/Transfer_Table_Per-College_HW.png
END:VEVENT
BEGIN:VEVENT
DTSTART;TZID=America/Chicago:20250403T153000
DTEND;TZID=America/Chicago:20250403T170000
DTSTAMP:20260419T234307
CREATED:20250402T174755Z
LAST-MODIFIED:20250402T174755Z
UID:10003942-1743694200-1743699600@success.ccc.edu
SUMMARY:Domestic Violence in the Migrant Community (Bilingüe en Inglés/Español)
DESCRIPTION:
URL:https://success.ccc.edu/event/domestic-violence-in-the-migrant-community-bilingue-en-ingles-espanol/
CATEGORIES:District-wide,Harold Washington,Harry S Truman,Kennedy-King,Malcolm X,Olive-Harvey,Richard J. Daley,Wilbur Wright
ATTACH;FMTTYPE=image/jpeg:https://success.ccc.edu/app/uploads/Project-SAFE-calendar-image.jpg
END:VEVENT
BEGIN:VEVENT
DTSTART;TZID=America/Chicago:20250404T143000
DTEND;TZID=America/Chicago:20250404T160000
DTSTAMP:20260419T234307
CREATED:20250116T155851Z
LAST-MODIFIED:20250116T155851Z
UID:10003238-1743777000-1743782400@success.ccc.edu
SUMMARY:Harold Washington: Transfer 101 Workshop (Virtual)
DESCRIPTION:
URL:https://success.ccc.edu/event/harold-washington-transfer-101-workshop-virtual/
CATEGORIES:District-wide,Harold Washington,Harry S Truman,Kennedy-King,Malcolm X,Olive-Harvey,Richard J. Daley,Wilbur Wright
ATTACH;FMTTYPE=image/png:https://success.ccc.edu/app/uploads/Transfer_Per-College_HW.png
END:VEVENT
BEGIN:VEVENT
DTSTART;TZID=America/Chicago:20250405T093000
DTEND;TZID=America/Chicago:20250405T103000
DTSTAMP:20260419T234307
CREATED:20250228T190651Z
LAST-MODIFIED:20250228T190651Z
UID:10003752-1743845400-1743849000@success.ccc.edu
SUMMARY:Star Scholarship Informational Session
DESCRIPTION:
URL:https://success.ccc.edu/event/star-scholarship-informational-session-2/
CATEGORIES:District-wide,Harold Washington,Harry S Truman,Kennedy-King,Malcolm X,Olive-Harvey,Richard J. Daley,Wilbur Wright
ATTACH;FMTTYPE=image/jpeg:https://success.ccc.edu/app/uploads/Star-Scholarship-Calendar-Image.jpg
END:VEVENT
BEGIN:VEVENT
DTSTART;TZID=America/Chicago:20250407T100000
DTEND;TZID=America/Chicago:20250407T130000
DTSTAMP:20260419T234307
CREATED:20250331T174946Z
LAST-MODIFIED:20250331T174946Z
UID:10003931-1744020000-1744030800@success.ccc.edu
SUMMARY:Harold Washington: University of Illinois Chicago (UIC) Table Visit
DESCRIPTION:
URL:https://success.ccc.edu/event/harold-washington-university-of-illinois-chicago-uic-table-visit-2/
CATEGORIES:Harold Washington
ATTACH;FMTTYPE=image/png:https://success.ccc.edu/app/uploads/Transfer_Table_Per-College_HW.png
END:VEVENT
BEGIN:VEVENT
DTSTART;TZID=America/Chicago:20250407T113000
DTEND;TZID=America/Chicago:20250407T140000
DTSTAMP:20260419T234307
CREATED:20250317T204624Z
LAST-MODIFIED:20250317T204624Z
UID:10003817-1744025400-1744034400@success.ccc.edu
SUMMARY:Harold Washington: Movie Monday - "Nope"
DESCRIPTION:
URL:https://success.ccc.edu/event/harold-washington-movie-monday-nope/
CATEGORIES:Harold Washington
ATTACH;FMTTYPE=image/jpeg:https://success.ccc.edu/app/uploads/HW_Calendar-Image_01.jpg
END:VEVENT
BEGIN:VEVENT
DTSTART;TZID=America/Chicago:20250407T130000
DTEND;TZID=America/Chicago:20250407T160000
DTSTAMP:20260419T234307
CREATED:20250331T174937Z
LAST-MODIFIED:20250331T174937Z
UID:10003930-1744030800-1744041600@success.ccc.edu
SUMMARY:Harold Washington: Chicago State University Table Visit
DESCRIPTION:
URL:https://success.ccc.edu/event/harold-washington-chicago-state-university-table-visit-3/
CATEGORIES:Harold Washington
ATTACH;FMTTYPE=image/png:https://success.ccc.edu/app/uploads/Transfer_Table_Per-College_HW.png
END:VEVENT
BEGIN:VEVENT
DTSTART;TZID=America/Chicago:20250407T160000
DTEND;TZID=America/Chicago:20250407T190000
DTSTAMP:20260419T234307
CREATED:20250331T174932Z
LAST-MODIFIED:20250331T174933Z
UID:10003929-1744041600-1744052400@success.ccc.edu
SUMMARY:Harold Washington: Columbia College Chicago Table Visit
DESCRIPTION:
URL:https://success.ccc.edu/event/harold-washington-columbia-college-chicago-table-visit-5/
CATEGORIES:Harold Washington
ATTACH;FMTTYPE=image/png:https://success.ccc.edu/app/uploads/Transfer_Table_Per-College_HW.png
END:VEVENT
BEGIN:VEVENT
DTSTART;TZID=America/Chicago:20250408T100000
DTEND;TZID=America/Chicago:20250408T130000
DTSTAMP:20260419T234307
CREATED:20250331T174746Z
LAST-MODIFIED:20250331T174746Z
UID:10003928-1744106400-1744117200@success.ccc.edu
SUMMARY:Harold Washington: Illinois Tech Table Visit
DESCRIPTION:
URL:https://success.ccc.edu/event/harold-washington-illinois-tech-table-visit-5/
CATEGORIES:Harold Washington
ATTACH;FMTTYPE=image/png:https://success.ccc.edu/app/uploads/Transfer_Table_Per-College_HW.png
END:VEVENT
END:VCALENDAR