BEGIN:VCALENDAR
VERSION:2.0
PRODID:-//CCC - ECPv6.11.2//NONSGML v1.0//EN
CALSCALE:GREGORIAN
METHOD:PUBLISH
X-ORIGINAL-URL:https://success.ccc.edu
X-WR-CALDESC:Events for CCC
REFRESH-INTERVAL;VALUE=DURATION:PT1H
X-Robots-Tag:noindex
X-PUBLISHED-TTL:PT1H
BEGIN:VTIMEZONE
TZID:America/Chicago
BEGIN:DAYLIGHT
TZOFFSETFROM:-0600
TZOFFSETTO:-0500
TZNAME:CDT
DTSTART:20240310T080000
END:DAYLIGHT
BEGIN:STANDARD
TZOFFSETFROM:-0500
TZOFFSETTO:-0600
TZNAME:CST
DTSTART:20241103T070000
END:STANDARD
END:VTIMEZONE
BEGIN:VEVENT
DTSTART;TZID=America/Chicago:20241202T110000
DTEND;TZID=America/Chicago:20241202T150000
DTSTAMP:20260419T075418
CREATED:20241030T205735Z
LAST-MODIFIED:20241030T205735Z
UID:10002625-1733137200-1733151600@success.ccc.edu
SUMMARY:Harold Washington: Study Lounge
DESCRIPTION:
URL:https://success.ccc.edu/event/harold-washington-study-lounge/
CATEGORIES:Harold Washington
ATTACH;FMTTYPE=image/jpeg:https://success.ccc.edu/app/uploads/HW_Stdnt_Act_01.jpg
END:VEVENT
BEGIN:VEVENT
DTSTART;TZID=America/Chicago:20241202T180000
DTEND;TZID=America/Chicago:20241202T190000
DTSTAMP:20260419T075418
CREATED:20241121T223537Z
LAST-MODIFIED:20241121T223537Z
UID:10002736-1733162400-1733166000@success.ccc.edu
SUMMARY:Harold Washington: Cybersecurity Bootcamp+ Certification Information Session
DESCRIPTION:
URL:https://success.ccc.edu/event/harold-washington-cybersecurity-bootcamp-certification-information-session/
CATEGORIES:Harold Washington
ATTACH;FMTTYPE=image/jpeg:https://success.ccc.edu/app/uploads/CE_IT-Tech.jpg
END:VEVENT
BEGIN:VEVENT
DTSTART;TZID=America/Chicago:20241203T123000
DTEND;TZID=America/Chicago:20241203T143000
DTSTAMP:20260419T075418
CREATED:20241118T201009Z
LAST-MODIFIED:20241118T201009Z
UID:10002732-1733229000-1733236200@success.ccc.edu
SUMMARY:Harold Washington: Take Care Tuesday - Goodie Bags and Music Session
DESCRIPTION:
URL:https://success.ccc.edu/event/harold-washington-take-care-tuesday-goodie-bags-and-music-session/
CATEGORIES:Harold Washington
ATTACH;FMTTYPE=image/jpeg:https://success.ccc.edu/app/uploads/HW_Stdnt_Act_01.jpg
END:VEVENT
BEGIN:VEVENT
DTSTART;TZID=America/Chicago:20241203T140000
DTEND;TZID=America/Chicago:20241203T160000
DTSTAMP:20260419T075418
CREATED:20241121T225828Z
LAST-MODIFIED:20241121T225828Z
UID:10002749-1733234400-1733241600@success.ccc.edu
SUMMARY:Harold Washington: Gender Play\, or what you Will
DESCRIPTION:
URL:https://success.ccc.edu/event/harold-washington-gender-play-or-what-you-will-2/
CATEGORIES:Harold Washington
ATTACH;FMTTYPE=image/jpeg:https://success.ccc.edu/app/uploads/HW_Stdnt_Act_02.jpg
END:VEVENT
BEGIN:VEVENT
DTSTART;TZID=America/Chicago:20241203T180000
DTEND;TZID=America/Chicago:20241203T193000
DTSTAMP:20260419T075418
CREATED:20241113T215850Z
LAST-MODIFIED:20241113T215850Z
UID:10002719-1733248800-1733254200@success.ccc.edu
SUMMARY:Harold Washington: Network+ Bootcamp Information Session
DESCRIPTION:
URL:https://success.ccc.edu/event/harold-washington-network-bootcamp-information-session/
CATEGORIES:Harold Washington
ATTACH;FMTTYPE=image/jpeg:https://success.ccc.edu/app/uploads/CE_IT-Tech.jpg
END:VEVENT
BEGIN:VEVENT
DTSTART;TZID=America/Chicago:20241204T100000
DTEND;TZID=America/Chicago:20241204T110000
DTSTAMP:20260419T075418
CREATED:20240829T194216Z
LAST-MODIFIED:20240829T194216Z
UID:10002149-1733306400-1733310000@success.ccc.edu
SUMMARY:Partners in Education Info Session
DESCRIPTION:
URL:https://success.ccc.edu/event/partners-in-education-info-session-39/
CATEGORIES:Harold Washington,Harry S Truman,Kennedy-King,Malcolm X,Olive-Harvey,Richard J. Daley,Wilbur Wright
ATTACH;FMTTYPE=image/jpeg:https://success.ccc.edu/app/uploads/CHA-Calendar-Image.jpg
END:VEVENT
BEGIN:VEVENT
DTSTART;TZID=America/Chicago:20241204T103000
DTEND;TZID=America/Chicago:20241204T120000
DTSTAMP:20260419T075418
CREATED:20241121T225033Z
LAST-MODIFIED:20241121T225033Z
UID:10002745-1733308200-1733313600@success.ccc.edu
SUMMARY:Harold Washington: New Student Orientation
DESCRIPTION:
URL:https://success.ccc.edu/event/harold-washington-new-student-orientation-62/
CATEGORIES:Harold Washington
ATTACH;FMTTYPE=image/jpeg:https://success.ccc.edu/app/uploads/HW_Calendar-Image_02.jpg
END:VEVENT
BEGIN:VEVENT
DTSTART;TZID=America/Chicago:20241204T120000
DTEND;TZID=America/Chicago:20241204T130000
DTSTAMP:20260419T075418
CREATED:20240829T194206Z
LAST-MODIFIED:20240829T194206Z
UID:10002148-1733313600-1733317200@success.ccc.edu
SUMMARY:Partners in Education Info Session
DESCRIPTION:
URL:https://success.ccc.edu/event/partners-in-education-info-session-38/
CATEGORIES:Harold Washington,Harry S Truman,Kennedy-King,Malcolm X,Olive-Harvey,Richard J. Daley,Wilbur Wright
ATTACH;FMTTYPE=image/jpeg:https://success.ccc.edu/app/uploads/CHA-Calendar-Image.jpg
END:VEVENT
BEGIN:VEVENT
DTSTART;TZID=America/Chicago:20241204T130000
DTEND;TZID=America/Chicago:20241204T140000
DTSTAMP:20260419T075418
CREATED:20241113T215521Z
LAST-MODIFIED:20241113T215521Z
UID:10002717-1733317200-1733320800@success.ccc.edu
SUMMARY:Harold Washington: Network+ Bootcamp Certification Information Session
DESCRIPTION:
URL:https://success.ccc.edu/event/harold-washington-network-bootcamp-certification-information-session-3/
CATEGORIES:Harold Washington
ATTACH;FMTTYPE=image/jpeg:https://success.ccc.edu/app/uploads/HW_Calendar-Image_01.jpg
END:VEVENT
BEGIN:VEVENT
DTSTART;TZID=America/Chicago:20241204T130000
DTEND;TZID=America/Chicago:20241204T140000
DTSTAMP:20260419T075418
CREATED:20241121T225547Z
LAST-MODIFIED:20241121T225547Z
UID:10002748-1733317200-1733320800@success.ccc.edu
SUMMARY:Harold Washington: Cybersecurity Bootcamp+ Certification Information Session
DESCRIPTION:
URL:https://success.ccc.edu/event/harold-washington-cybersecurity-bootcamp-certification-information-session-2/
CATEGORIES:Harold Washington
ATTACH;FMTTYPE=image/jpeg:https://success.ccc.edu/app/uploads/CE_IT-Tech.jpg
END:VEVENT
BEGIN:VEVENT
DTSTART;TZID=America/Chicago:20241205T100000
DTEND;TZID=America/Chicago:20241205T120000
DTSTAMP:20260419T075418
CREATED:20241030T211306Z
LAST-MODIFIED:20241030T211306Z
UID:10002633-1733392800-1733400000@success.ccc.edu
SUMMARY:Harold Washington: Financial Aid Completion Workshop
DESCRIPTION:
URL:https://success.ccc.edu/event/harold-washington-financial-aid-completion-workshop-11/
CATEGORIES:Harold Washington
ATTACH;FMTTYPE=image/jpeg:https://success.ccc.edu/app/uploads/Financial-Aid_Calendar.jpg
END:VEVENT
BEGIN:VEVENT
DTSTART;TZID=America/Chicago:20241205T100000
DTEND;TZID=America/Chicago:20241205T120000
DTSTAMP:20260419T075418
CREATED:20241113T221000Z
LAST-MODIFIED:20241113T221000Z
UID:10002726-1733392800-1733400000@success.ccc.edu
SUMMARY:Harold Washington: Stress Management Brunch
DESCRIPTION:
URL:https://success.ccc.edu/event/harold-washington-stress-management-brunch/
CATEGORIES:Harold Washington
ATTACH;FMTTYPE=image/jpeg:https://success.ccc.edu/app/uploads/HW_Stdnt_Act_01.jpg
END:VEVENT
BEGIN:VEVENT
DTSTART;TZID=America/Chicago:20241205T150000
DTEND;TZID=America/Chicago:20241205T163000
DTSTAMP:20260419T075418
CREATED:20240725T162232Z
LAST-MODIFIED:20240725T162232Z
UID:10001814-1733410800-1733416200@success.ccc.edu
SUMMARY:Harold Washington: LinkedIn Workshop
DESCRIPTION:
URL:https://success.ccc.edu/event/harold-washington-linkedin-workshop/
CATEGORIES:Harold Washington
ATTACH;FMTTYPE=image/png:https://success.ccc.edu/app/uploads/CalendarImage_CareerCenter_4_HW.png
END:VEVENT
BEGIN:VEVENT
DTSTART;TZID=America/Chicago:20241205T150000
DTEND;TZID=America/Chicago:20241205T170000
DTSTAMP:20260419T075418
CREATED:20241121T224832Z
LAST-MODIFIED:20241121T224832Z
UID:10002744-1733410800-1733418000@success.ccc.edu
SUMMARY:Harold Washington: New Student Orientation
DESCRIPTION:
URL:https://success.ccc.edu/event/harold-washington-new-student-orientation-61/
CATEGORIES:Harold Washington
ATTACH;FMTTYPE=image/jpeg:https://success.ccc.edu/app/uploads/HW_Calendar-Image_02.jpg
END:VEVENT
BEGIN:VEVENT
DTSTART;TZID=America/Chicago:20241205T163000
DTEND;TZID=America/Chicago:20241205T173000
DTSTAMP:20260419T075418
CREATED:20241204T223749Z
LAST-MODIFIED:20241204T223749Z
UID:10002762-1733416200-1733419800@success.ccc.edu
SUMMARY:Harold Washington: Satisfactory Academic Progress (SAP) Appeal Consultations
DESCRIPTION:
URL:https://success.ccc.edu/event/harold-washington-satisfactory-academic-progress-sap-appeal-consultations/
CATEGORIES:Harold Washington
ATTACH;FMTTYPE=image/jpeg:https://success.ccc.edu/app/uploads/Financial-Aid_Calendar.jpg
END:VEVENT
BEGIN:VEVENT
DTSTART;TZID=America/Chicago:20241206T103000
DTEND;TZID=America/Chicago:20241206T120000
DTSTAMP:20260419T075418
CREATED:20241121T224717Z
LAST-MODIFIED:20241121T224717Z
UID:10002743-1733481000-1733486400@success.ccc.edu
SUMMARY:Harold Washington: New Student Orientation (Virtual)
DESCRIPTION:
URL:https://success.ccc.edu/event/harold-washington-new-student-orientation-virtual-4/
CATEGORIES:Harold Washington
ATTACH;FMTTYPE=image/jpeg:https://success.ccc.edu/app/uploads/HW_Calendar-Image_02.jpg
END:VEVENT
BEGIN:VEVENT
DTSTART;TZID=America/Chicago:20241206T103000
DTEND;TZID=America/Chicago:20241206T123000
DTSTAMP:20260419T075418
CREATED:20240801T150749Z
LAST-MODIFIED:20240801T150749Z
UID:10001842-1733481000-1733488200@success.ccc.edu
SUMMARY:Transfer Writing Workshop/Ready to Transfer (RTA)
DESCRIPTION:
URL:https://success.ccc.edu/event/transfer-writing-workshop-ready-to-transfer-rta/
CATEGORIES:Harold Washington
ATTACH;FMTTYPE=image/png:https://success.ccc.edu/app/uploads/Transfer_Per-College_HW.png
END:VEVENT
BEGIN:VEVENT
DTSTART;TZID=America/Chicago:20241206T103000
DTEND;TZID=America/Chicago:20241206T123000
DTSTAMP:20260419T075418
CREATED:20240801T150751Z
LAST-MODIFIED:20240801T150751Z
UID:10001843-1733481000-1733488200@success.ccc.edu
SUMMARY:Transfer Writing Workshop/Ready to Transfer (RTA)
DESCRIPTION:
URL:https://success.ccc.edu/event/transfer-writing-workshop-ready-to-transfer-rta-2/
CATEGORIES:Harold Washington
ATTACH;FMTTYPE=image/png:https://success.ccc.edu/app/uploads/Transfer_Per-College_HW.png
END:VEVENT
BEGIN:VEVENT
DTSTART;TZID=America/Chicago:20241209T110000
DTEND;TZID=America/Chicago:20241209T140000
DTSTAMP:20260419T075418
CREATED:20241106T203230Z
LAST-MODIFIED:20241106T203230Z
UID:10002660-1733742000-1733752800@success.ccc.edu
SUMMARY:Harold Washington: Winter Wonderland Workshop
DESCRIPTION:
URL:https://success.ccc.edu/event/harold-washington-winter-wonderland-workshop/
CATEGORIES:Harold Washington
ATTACH;FMTTYPE=image/jpeg:https://success.ccc.edu/app/uploads/HW_Stdnt_Act_01.jpg
END:VEVENT
BEGIN:VEVENT
DTSTART;TZID=America/Chicago:20241209T180000
DTEND;TZID=America/Chicago:20241209T190000
DTSTAMP:20260419T075418
CREATED:20241121T225406Z
LAST-MODIFIED:20241121T225406Z
UID:10002747-1733767200-1733770800@success.ccc.edu
SUMMARY:Harold Washington: Project Management (CAPM) Information Session
DESCRIPTION:
URL:https://success.ccc.edu/event/harold-washington-project-management-capm-information-session/
CATEGORIES:Harold Washington
ATTACH;FMTTYPE=image/jpeg:https://success.ccc.edu/app/uploads/CE_Business.jpg
END:VEVENT
BEGIN:VEVENT
DTSTART;TZID=America/Chicago:20241210T143000
DTEND;TZID=America/Chicago:20241210T163000
DTSTAMP:20260419T075418
CREATED:20240930T192230Z
LAST-MODIFIED:20240930T192230Z
UID:10002382-1733841000-1733848200@success.ccc.edu
SUMMARY:Harold Washington: Karaoke Lounge
DESCRIPTION:
URL:https://success.ccc.edu/event/harold-washington-karaoke-lounge/
CATEGORIES:Harold Washington
ATTACH;FMTTYPE=image/jpeg:https://success.ccc.edu/app/uploads/HW_Stdnt_Act_01.jpg
END:VEVENT
BEGIN:VEVENT
DTSTART;TZID=America/Chicago:20241211T100000
DTEND;TZID=America/Chicago:20241211T110000
DTSTAMP:20260419T075418
CREATED:20240829T194147Z
LAST-MODIFIED:20240829T194147Z
UID:10002147-1733911200-1733914800@success.ccc.edu
SUMMARY:Partners in Education Info Session
DESCRIPTION:
URL:https://success.ccc.edu/event/partners-in-education-info-session-37/
CATEGORIES:Harold Washington,Harry S Truman,Kennedy-King,Malcolm X,Olive-Harvey,Richard J. Daley,Wilbur Wright
ATTACH;FMTTYPE=image/jpeg:https://success.ccc.edu/app/uploads/CHA-Calendar-Image.jpg
END:VEVENT
BEGIN:VEVENT
DTSTART;TZID=America/Chicago:20241211T100000
DTEND;TZID=America/Chicago:20241211T120000
DTSTAMP:20260419T075418
CREATED:20241030T211322Z
LAST-MODIFIED:20241030T211322Z
UID:10002634-1733911200-1733918400@success.ccc.edu
SUMMARY:Harold Washington: Financial Aid Completion Workshop
DESCRIPTION:
URL:https://success.ccc.edu/event/harold-washington-financial-aid-completion-workshop-12/
CATEGORIES:Harold Washington
ATTACH;FMTTYPE=image/jpeg:https://success.ccc.edu/app/uploads/Financial-Aid_Calendar.jpg
END:VEVENT
BEGIN:VEVENT
DTSTART;TZID=America/Chicago:20241211T103000
DTEND;TZID=America/Chicago:20241211T120000
DTSTAMP:20260419T075418
CREATED:20241121T224540Z
LAST-MODIFIED:20241121T224540Z
UID:10002742-1733913000-1733918400@success.ccc.edu
SUMMARY:Harold Washington: New Student Orientation
DESCRIPTION:
URL:https://success.ccc.edu/event/harold-washington-new-student-orientation-60/
CATEGORIES:Harold Washington
ATTACH;FMTTYPE=image/jpeg:https://success.ccc.edu/app/uploads/HW_Calendar-Image_02.jpg
END:VEVENT
BEGIN:VEVENT
DTSTART;TZID=America/Chicago:20241211T120000
DTEND;TZID=America/Chicago:20241211T130000
DTSTAMP:20260419T075418
CREATED:20240829T194136Z
LAST-MODIFIED:20240829T194136Z
UID:10002146-1733918400-1733922000@success.ccc.edu
SUMMARY:Partners in Education Info Session
DESCRIPTION:
URL:https://success.ccc.edu/event/partners-in-education-info-session-36/
CATEGORIES:Harold Washington,Harry S Truman,Kennedy-King,Malcolm X,Olive-Harvey,Richard J. Daley,Wilbur Wright
ATTACH;FMTTYPE=image/jpeg:https://success.ccc.edu/app/uploads/CHA-Calendar-Image.jpg
END:VEVENT
BEGIN:VEVENT
DTSTART;TZID=America/Chicago:20241212T130000
DTEND;TZID=America/Chicago:20241212T150000
DTSTAMP:20260419T075418
CREATED:20241210T180747Z
LAST-MODIFIED:20241210T180747Z
UID:10002829-1734008400-1734015600@success.ccc.edu
SUMMARY:Harold Washington: Satisfactory Academic Progress (SAP) Appeal Workshop
DESCRIPTION:
URL:https://success.ccc.edu/event/harold-washington-satisfactory-academic-progress-sap-appeal-workshop/
CATEGORIES:Harold Washington
ATTACH;FMTTYPE=image/jpeg:https://success.ccc.edu/app/uploads/Financial-Aid_Calendar.jpg
END:VEVENT
BEGIN:VEVENT
DTSTART;TZID=America/Chicago:20241212T150000
DTEND;TZID=America/Chicago:20241212T170000
DTSTAMP:20260419T075418
CREATED:20241121T224443Z
LAST-MODIFIED:20241121T224443Z
UID:10002741-1734015600-1734022800@success.ccc.edu
SUMMARY:Harold Washington: New Student Orientation
DESCRIPTION:
URL:https://success.ccc.edu/event/harold-washington-new-student-orientation-59/
CATEGORIES:Harold Washington
ATTACH;FMTTYPE=image/jpeg:https://success.ccc.edu/app/uploads/HW_Calendar-Image_02.jpg
END:VEVENT
BEGIN:VEVENT
DTSTART;TZID=America/Chicago:20241212T163000
DTEND;TZID=America/Chicago:20241212T173000
DTSTAMP:20260419T075418
CREATED:20241209T220920Z
LAST-MODIFIED:20241209T220920Z
UID:10002825-1734021000-1734024600@success.ccc.edu
SUMMARY:Harold Washington: Satisfactory Academic Progress (SAP) Appeal Consultations (Virtual)
DESCRIPTION:
URL:https://success.ccc.edu/event/harold-washington-satisfactory-academic-progress-sap-appeal-consultations-virtual/
CATEGORIES:Harold Washington
ATTACH;FMTTYPE=image/jpeg:https://success.ccc.edu/app/uploads/Financial-Aid_Calendar.jpg
END:VEVENT
BEGIN:VEVENT
DTSTART;TZID=America/Chicago:20241212T183000
DTEND;TZID=America/Chicago:20241212T193000
DTSTAMP:20260419T075418
CREATED:20240829T194122Z
LAST-MODIFIED:20240829T194122Z
UID:10002145-1734028200-1734031800@success.ccc.edu
SUMMARY:Partners in Education Info Session
DESCRIPTION:
URL:https://success.ccc.edu/event/partners-in-education-info-session-35/
CATEGORIES:Harold Washington,Harry S Truman,Kennedy-King,Malcolm X,Olive-Harvey,Richard J. Daley,Wilbur Wright
ATTACH;FMTTYPE=image/jpeg:https://success.ccc.edu/app/uploads/CHA-Calendar-Image.jpg
END:VEVENT
BEGIN:VEVENT
DTSTART;TZID=America/Chicago:20241218T100000
DTEND;TZID=America/Chicago:20241218T110000
DTSTAMP:20260419T075418
CREATED:20240829T194113Z
LAST-MODIFIED:20240829T194113Z
UID:10002144-1734516000-1734519600@success.ccc.edu
SUMMARY:Partners in Education Info Session
DESCRIPTION:
URL:https://success.ccc.edu/event/partners-in-education-info-session-34/
CATEGORIES:Harold Washington,Harry S Truman,Kennedy-King,Malcolm X,Olive-Harvey,Richard J. Daley,Wilbur Wright
ATTACH;FMTTYPE=image/jpeg:https://success.ccc.edu/app/uploads/CHA-Calendar-Image.jpg
END:VEVENT
END:VCALENDAR