BEGIN:VCALENDAR
VERSION:2.0
PRODID:-//CCC - ECPv6.11.2//NONSGML v1.0//EN
CALSCALE:GREGORIAN
METHOD:PUBLISH
X-WR-CALNAME:CCC
X-ORIGINAL-URL:https://success.ccc.edu
X-WR-CALDESC:Events for CCC
REFRESH-INTERVAL;VALUE=DURATION:PT1H
X-Robots-Tag:noindex
X-PUBLISHED-TTL:PT1H
BEGIN:VTIMEZONE
TZID:America/Chicago
BEGIN:DAYLIGHT
TZOFFSETFROM:-0600
TZOFFSETTO:-0500
TZNAME:CDT
DTSTART:20230312T080000
END:DAYLIGHT
BEGIN:STANDARD
TZOFFSETFROM:-0500
TZOFFSETTO:-0600
TZNAME:CST
DTSTART:20231105T070000
END:STANDARD
END:VTIMEZONE
BEGIN:VEVENT
DTSTART;TZID=America/Chicago:20231004T133000
DTEND;TZID=America/Chicago:20231004T170000
DTSTAMP:20260420T081735
CREATED:20231018T170437Z
LAST-MODIFIED:20231025T201838Z
UID:10000389-1696426200-1696438800@success.ccc.edu
SUMMARY:Harold Washington: Equity\, Peace\, and Justice Employment and Volunteer Fair
DESCRIPTION:
URL:https://success.ccc.edu/event/harold-washington-equity-peace-and-justice-employment-and-volunteer-fair/
CATEGORIES:Harold Washington
ATTACH;FMTTYPE=image/png:https://success.ccc.edu/app/uploads/CalendarImage_CareerCenter_4_HW.png
END:VEVENT
BEGIN:VEVENT
DTSTART;TZID=America/Chicago:20231005T100000
DTEND;TZID=America/Chicago:20231005T130000
DTSTAMP:20260420T081735
CREATED:20231018T161200Z
LAST-MODIFIED:20231025T201610Z
UID:10000095-1696500000-1696510800@success.ccc.edu
SUMMARY:Harold Washington: Transfer Fair and Rockstar Cafe
DESCRIPTION:
URL:https://success.ccc.edu/event/harold-washington-transfer-fair-and-rockstar-cafe/
CATEGORIES:Harold Washington
ATTACH;FMTTYPE=image/png:https://success.ccc.edu/app/uploads/Transfer_Per-College_HW.png
END:VEVENT
BEGIN:VEVENT
DTSTART;TZID=America/Chicago:20231005T153000
DTEND;TZID=America/Chicago:20231005T170000
DTSTAMP:20260420T081735
CREATED:20231018T160551Z
LAST-MODIFIED:20231018T160551Z
UID:10000064-1696519800-1696525200@success.ccc.edu
SUMMARY:Fall 2023 City Colleges Transfer Leadership Class (TLC)
DESCRIPTION:
URL:https://success.ccc.edu/event/fall-2023-city-colleges-transfer-leadership-class-tlc-6/
CATEGORIES:District Office,District-wide,Harold Washington,Harry S Truman,Kennedy-King,Malcolm X,Olive-Harvey,Richard J. Daley,Wilbur Wright
ATTACH;FMTTYPE=image/png:https://success.ccc.edu/app/uploads/Transfer_Per-College_DO.png
END:VEVENT
BEGIN:VEVENT
DTSTART;TZID=America/Chicago:20231006T143000
DTEND;TZID=America/Chicago:20231006T160000
DTSTAMP:20260420T081735
CREATED:20231018T155622Z
LAST-MODIFIED:20231018T155622Z
UID:10000054-1696602600-1696608000@success.ccc.edu
SUMMARY:Harold Washington: Transfer 101 Workshop
DESCRIPTION:
URL:https://success.ccc.edu/event/harold-washington-transfer-101-workshop-2/
CATEGORIES:District-wide,Harold Washington
ATTACH;FMTTYPE=image/png:https://success.ccc.edu/app/uploads/Transfer_Per-College_HW.png
END:VEVENT
BEGIN:VEVENT
DTSTART;TZID=America/Chicago:20231011T130000
DTEND;TZID=America/Chicago:20231011T150000
DTSTAMP:20260420T081735
CREATED:20231018T172542Z
LAST-MODIFIED:20231025T194445Z
UID:10000536-1697029200-1697036400@success.ccc.edu
SUMMARY:Harold Washington: Director's Showcase Audition
DESCRIPTION:
URL:https://success.ccc.edu/event/harold-washington-directors-showcase-audition/
CATEGORIES:Harold Washington
ATTACH;FMTTYPE=image/jpeg:https://success.ccc.edu/app/uploads/HW_Calendar-Image_02.jpg
END:VEVENT
BEGIN:VEVENT
DTSTART;TZID=America/Chicago:20231012T120000
DTEND;TZID=America/Chicago:20231012T140000
DTSTAMP:20260420T081735
CREATED:20231018T172839Z
LAST-MODIFIED:20231025T194502Z
UID:10000567-1697112000-1697119200@success.ccc.edu
SUMMARY:Harold Washington: Mariachi Herencia de Mexico
DESCRIPTION:
URL:https://success.ccc.edu/event/harold-washington-mariachi-herencia-de-mexico/
CATEGORIES:Harold Washington
ATTACH;FMTTYPE=image/jpeg:https://success.ccc.edu/app/uploads/Hispanic-Heritage-Month_Calendar-Image_HW.jpg
END:VEVENT
BEGIN:VEVENT
DTSTART;TZID=America/Chicago:20231012T153000
DTEND;TZID=America/Chicago:20231012T170000
DTSTAMP:20260420T081735
CREATED:20231018T165414Z
LAST-MODIFIED:20231025T201811Z
UID:10000327-1697124600-1697130000@success.ccc.edu
SUMMARY:Harold Washington: Rockstar Group Transfer & Career Advising for Grads & Future Grads
DESCRIPTION:
URL:https://success.ccc.edu/event/harold-washington-rockstar-group-transfer-career-advising-for-grads-future-grads-3/
CATEGORIES:Harold Washington
ATTACH;FMTTYPE=image/png:https://success.ccc.edu/app/uploads/Transfer_Per-College_HW.png
END:VEVENT
BEGIN:VEVENT
DTSTART;TZID=America/Chicago:20231017T160000
DTEND;TZID=America/Chicago:20231017T180000
DTSTAMP:20260420T081735
CREATED:20231018T172951Z
LAST-MODIFIED:20231025T194503Z
UID:10000569-1697558400-1697565600@success.ccc.edu
SUMMARY:Harold Washington: Loop Players Auditions
DESCRIPTION:
URL:https://success.ccc.edu/event/harold-washington-loop-players-auditions/
CATEGORIES:Harold Washington
ATTACH;FMTTYPE=image/jpeg:https://success.ccc.edu/app/uploads/HW_Calendar-Image_01.jpg
END:VEVENT
BEGIN:VEVENT
DTSTART;TZID=America/Chicago:20231017T160000
DTEND;TZID=America/Chicago:20231017T190000
DTSTAMP:20260420T081735
CREATED:20231012T210512Z
LAST-MODIFIED:20231012T210512Z
UID:10000564-1697558400-1697569200@success.ccc.edu
SUMMARY:Harold Washington: Treasures of Classical Music from Mexico and the United States
DESCRIPTION:
URL:https://success.ccc.edu/event/harold-washington-treasures-of-classical-music-from-mexico-and-the-united-states/
CATEGORIES:Harold Washington
ATTACH;FMTTYPE=image/jpeg:https://success.ccc.edu/app/uploads/Hispanic-Heritage-Month_Calendar-Image_HW.jpg
END:VEVENT
BEGIN:VEVENT
DTSTART;TZID=America/Chicago:20231017T160000
DTEND;TZID=America/Chicago:20231017T190000
DTSTAMP:20260420T081735
CREATED:20231018T172852Z
LAST-MODIFIED:20231025T194502Z
UID:10000565-1697558400-1697569200@success.ccc.edu
SUMMARY:Harold Washington: Treasures of Classical Music from Mexico and the United States
DESCRIPTION:
URL:https://success.ccc.edu/event/harold-washington-treasures-of-classical-music-from-mexico-and-the-united-states-2/
CATEGORIES:Harold Washington
ATTACH;FMTTYPE=image/jpeg:https://success.ccc.edu/app/uploads/Hispanic-Heritage-Month_Calendar-Image_HW.jpg
END:VEVENT
BEGIN:VEVENT
DTSTART;TZID=America/Chicago:20231019T140000
DTEND;TZID=America/Chicago:20231019T153000
DTSTAMP:20260420T081735
CREATED:20231018T171146Z
LAST-MODIFIED:20231025T201904Z
UID:10000444-1697724000-1697729400@success.ccc.edu
SUMMARY:Harold Washington: Yoga
DESCRIPTION:
URL:https://success.ccc.edu/event/harold-washington-yoga/
CATEGORIES:Harold Washington
ATTACH;FMTTYPE=image/jpeg:https://success.ccc.edu/app/uploads/Project-SAFE-calendar-image.jpg
END:VEVENT
BEGIN:VEVENT
DTSTART;TZID=America/Chicago:20231019T153000
DTEND;TZID=America/Chicago:20231019T170000
DTSTAMP:20260420T081735
CREATED:20231018T165424Z
LAST-MODIFIED:20231025T201811Z
UID:10000326-1697729400-1697734800@success.ccc.edu
SUMMARY:Harold Washington: Rockstar Group Transfer & Career Advising for Grads & Future Grads
DESCRIPTION:
URL:https://success.ccc.edu/event/harold-washington-rockstar-group-transfer-career-advising-for-grads-future-grads-2/
CATEGORIES:Harold Washington
ATTACH;FMTTYPE=image/png:https://success.ccc.edu/app/uploads/Transfer_Per-College_HW.png
END:VEVENT
BEGIN:VEVENT
DTSTART;TZID=America/Chicago:20231024T103000
DTEND;TZID=America/Chicago:20231024T133000
DTSTAMP:20260420T081735
CREATED:20231018T171345Z
LAST-MODIFIED:20231025T201919Z
UID:10000467-1698143400-1698154200@success.ccc.edu
SUMMARY:Harold Washington: Advising Midterm Meet & Greet
DESCRIPTION:
URL:https://success.ccc.edu/event/harold-washington-advising-midterm-meet-greet/
CATEGORIES:Harold Washington
ATTACH;FMTTYPE=image/jpeg:https://success.ccc.edu/app/uploads/HW_Stdnt_Act_01.jpg
END:VEVENT
BEGIN:VEVENT
DTSTART;TZID=America/Chicago:20231024T113000
DTEND;TZID=America/Chicago:20231024T153000
DTSTAMP:20260420T081735
CREATED:20231024T164118Z
LAST-MODIFIED:20231025T194431Z
UID:10000291-1698147000-1698161400@success.ccc.edu
SUMMARY:Harold Washington: Beginning Clay Comics Course
DESCRIPTION:
URL:https://success.ccc.edu/event/harold-washington-beginning-clay-comics-course/
CATEGORIES:Harold Washington
ATTACH;FMTTYPE=image/jpeg:https://success.ccc.edu/app/uploads/FutrRdy_CE_Generic-1.jpg
END:VEVENT
BEGIN:VEVENT
DTSTART;TZID=America/Chicago:20231024T173000
DTEND;TZID=America/Chicago:20231024T193000
DTSTAMP:20260420T081735
CREATED:20231024T170129Z
LAST-MODIFIED:20231025T194446Z
UID:10000538-1698168600-1698175800@success.ccc.edu
SUMMARY:Harold Washington: Introduction to Small Business Management
DESCRIPTION:
URL:https://success.ccc.edu/event/harold-washington-introduction-to-small-business-management/
CATEGORIES:Harold Washington
ATTACH;FMTTYPE=image/jpeg:https://success.ccc.edu/app/uploads/CE_Business.jpg
END:VEVENT
BEGIN:VEVENT
DTSTART;TZID=America/Chicago:20231024T180000
DTEND;TZID=America/Chicago:20231024T180000
DTSTAMP:20260420T081735
CREATED:20231024T165603Z
LAST-MODIFIED:20231025T194432Z
UID:10000377-1698170400-1698170400@success.ccc.edu
SUMMARY:Harold Washington: Future Ready Business Analytics Series
DESCRIPTION:
URL:https://success.ccc.edu/event/harold-washington-future-ready-business-analytics-series/
CATEGORIES:Harold Washington
ATTACH;FMTTYPE=image/jpeg:https://success.ccc.edu/app/uploads/FutrRdy_CE_Generic-2.jpg
END:VEVENT
BEGIN:VEVENT
DTSTART;TZID=America/Chicago:20231025T130000
DTEND;TZID=America/Chicago:20231025T150000
DTSTAMP:20260420T081735
CREATED:20231025T194702Z
LAST-MODIFIED:20231025T194703Z
UID:10000267-1698238800-1698246000@success.ccc.edu
SUMMARY:Harold Washington: Ceramics for Adults
DESCRIPTION:
URL:https://success.ccc.edu/event/harold-washington-ceramics-for-adults/
CATEGORIES:Harold Washington
ATTACH;FMTTYPE=image/jpeg:https://success.ccc.edu/app/uploads/HW_Calendar-Image_01.jpg
END:VEVENT
BEGIN:VEVENT
DTSTART;TZID=America/Chicago:20231026T153000
DTEND;TZID=America/Chicago:20231026T170000
DTSTAMP:20260420T081735
CREATED:20231018T161219Z
LAST-MODIFIED:20231025T201611Z
UID:10000096-1698334200-1698339600@success.ccc.edu
SUMMARY:Harold Washington: Rockstar Group Transfer Advising Workshop
DESCRIPTION:
URL:https://success.ccc.edu/event/harold-washington-rockstar-group-transfer-advising-workshop/
CATEGORIES:Harold Washington
ATTACH;FMTTYPE=image/png:https://success.ccc.edu/app/uploads/Transfer_Per-College_HW.png
END:VEVENT
BEGIN:VEVENT
DTSTART;TZID=America/Chicago:20231026T153000
DTEND;TZID=America/Chicago:20231026T170000
DTSTAMP:20260420T081735
CREATED:20231018T165433Z
LAST-MODIFIED:20231025T201810Z
UID:10000325-1698334200-1698339600@success.ccc.edu
SUMMARY:Harold Washington: Rockstar Group Transfer & Career Advising for Grads & Future Grads
DESCRIPTION:
URL:https://success.ccc.edu/event/harold-washington-rockstar-group-transfer-career-advising-for-grads-future-grads/
CATEGORIES:Harold Washington
ATTACH;FMTTYPE=image/png:https://success.ccc.edu/app/uploads/Transfer_Per-College_HW.png
END:VEVENT
BEGIN:VEVENT
DTSTART;TZID=America/Chicago:20231030T140000
DTEND;TZID=America/Chicago:20231030T153000
DTSTAMP:20260420T081735
CREATED:20231025T211223Z
LAST-MODIFIED:20231025T211223Z
UID:10000605-1698674400-1698679800@success.ccc.edu
SUMMARY:Harold Washington: Film Series -  We Shall Remain (Ep. 5: Wounded Knee)
DESCRIPTION:
URL:https://success.ccc.edu/event/harold-washington-film-series-we-shall-remain-ep-5-wounded-knee/
CATEGORIES:Harold Washington
ATTACH;FMTTYPE=image/jpeg:https://success.ccc.edu/app/uploads/HW_Calendar-Image_01.jpg
END:VEVENT
BEGIN:VEVENT
DTSTART;TZID=America/Chicago:20231031T120000
DTEND;TZID=America/Chicago:20231031T130000
DTSTAMP:20260420T081735
CREATED:20231031T144846Z
LAST-MODIFIED:20231031T144846Z
UID:10000628-1698753600-1698757200@success.ccc.edu
SUMMARY:Harold Washington College: Cinderella Didn't Live Happily Ever After
DESCRIPTION:
URL:https://success.ccc.edu/event/harold-washington-college-cinderella-didnt-live-happily-ever-after/
CATEGORIES:Harold Washington
ATTACH;FMTTYPE=image/jpeg:https://success.ccc.edu/app/uploads/HW_Calendar-Image_03.jpg
END:VEVENT
END:VCALENDAR